BEGIN:VCALENDAR
VERSION:2.0
PRODID:-//Mt. La Crosse Ski and Snowboard - ECPv6.14.2//NONSGML v1.0//EN
CALSCALE:GREGORIAN
METHOD:PUBLISH
X-WR-CALNAME:Mt. La Crosse Ski and Snowboard
X-ORIGINAL-URL:https://mtlacrosse.com
X-WR-CALDESC:Events for Mt. La Crosse Ski and Snowboard
REFRESH-INTERVAL;VALUE=DURATION:PT1H
X-Robots-Tag:noindex
X-PUBLISHED-TTL:PT1H
BEGIN:VTIMEZONE
TZID:America/Chicago
BEGIN:DAYLIGHT
TZOFFSETFROM:-0600
TZOFFSETTO:-0500
TZNAME:CDT
DTSTART:20240310T080000
END:DAYLIGHT
BEGIN:STANDARD
TZOFFSETFROM:-0500
TZOFFSETTO:-0600
TZNAME:CST
DTSTART:20241103T070000
END:STANDARD
END:VTIMEZONE
BEGIN:VEVENT
DTSTART;TZID=America/Chicago:20241213T100000
DTEND;TZID=America/Chicago:20241213T190000
DTSTAMP:20260422T200755
CREATED:20241209T163006Z
LAST-MODIFIED:20241209T163006Z
UID:14698-1734084000-1734116400@mtlacrosse.com
SUMMARY:Pro Shop
DESCRIPTION:Pro Shop is open! Stop by and grab your favorite gear\, along with new arrivals!
URL:https://mtlacrosse.com/event/pro-shop-75/
CATEGORIES:Pro Shop Hours
END:VEVENT
BEGIN:VEVENT
DTSTART;TZID=America/Chicago:20241213T100000
DTEND;TZID=America/Chicago:20241213T200000
DTSTAMP:20260422T200755
CREATED:20241209T164332Z
LAST-MODIFIED:20241209T164332Z
UID:14716-1734084000-1734120000@mtlacrosse.com
SUMMARY:Hill Open
DESCRIPTION:Grab your winter gear and spend the day at Mt. La Crosse!
URL:https://mtlacrosse.com/event/hill-open-12-13-24/
CATEGORIES:Hill Hours
END:VEVENT
BEGIN:VEVENT
DTSTART;TZID=America/Chicago:20241213T190000
DTEND;TZID=America/Chicago:20241213T210000
DTSTAMP:20260422T200755
CREATED:20241208T173225Z
LAST-MODIFIED:20241208T173225Z
UID:14526-1734116400-1734123600@mtlacrosse.com
SUMMARY:Live Music - David Nash
DESCRIPTION:Join us in the St. Bernard Room for some Live Music\, featuring David Nash!
URL:https://mtlacrosse.com/event/live-music-david-nash-2/
CATEGORIES:Live Music
END:VEVENT
BEGIN:VEVENT
DTSTART;TZID=America/Chicago:20241213T190000
DTEND;TZID=America/Chicago:20241213T210000
DTSTAMP:20260422T200755
CREATED:20241208T211018Z
LAST-MODIFIED:20241208T211018Z
UID:14682-1734116400-1734123600@mtlacrosse.com
SUMMARY:Welcome Winter Party
DESCRIPTION:Join us for a party to get the season started! We will be featuring giveaways\, live music by David Nash\, and Sam Adams Winter Lager! \nFriday\, 12/13 | 7 p.m. – 9 p.m.
URL:https://mtlacrosse.com/event/welcome-winter-party/
CATEGORIES:Bar Events,Hill Event
END:VEVENT
END:VCALENDAR