BEGIN:VCALENDAR
VERSION:2.0
PRODID:-//Mt. La Crosse Ski and Snowboard - ECPv6.14.2//NONSGML v1.0//EN
CALSCALE:GREGORIAN
METHOD:PUBLISH
X-WR-CALNAME:Mt. La Crosse Ski and Snowboard
X-ORIGINAL-URL:https://mtlacrosse.com
X-WR-CALDESC:Events for Mt. La Crosse Ski and Snowboard
REFRESH-INTERVAL;VALUE=DURATION:PT1H
X-Robots-Tag:noindex
X-PUBLISHED-TTL:PT1H
BEGIN:VTIMEZONE
TZID:America/Chicago
BEGIN:DAYLIGHT
TZOFFSETFROM:-0600
TZOFFSETTO:-0500
TZNAME:CDT
DTSTART:20260308T080000
END:DAYLIGHT
BEGIN:STANDARD
TZOFFSETFROM:-0500
TZOFFSETTO:-0600
TZNAME:CST
DTSTART:20261101T070000
END:STANDARD
END:VTIMEZONE
BEGIN:VEVENT
DTSTART;VALUE=DATE:20260302
DTEND;VALUE=DATE:20260303
DTSTAMP:20260423T185617
CREATED:20260309T162557Z
LAST-MODIFIED:20260309T162557Z
UID:19748-1772409600-1772495999@mtlacrosse.com
SUMMARY:Season Pass Sale
DESCRIPTION:Purchase your 2026-2027 Season Pass Here: Season Passes
URL:https://mtlacrosse.com/event/season-pass-sale-2/
CATEGORIES:Hill Event
END:VEVENT
BEGIN:VEVENT
DTSTART;TZID=America/Chicago:20260302T100000
DTEND;TZID=America/Chicago:20260302T190000
DTSTAMP:20260423T185617
CREATED:20260223T202303Z
LAST-MODIFIED:20260223T202318Z
UID:19529-1772445600-1772478000@mtlacrosse.com
SUMMARY:Pro Shop Open
DESCRIPTION:The Mt. La Crosse Pro Shop is OPEN! \nStop in to grab your favorite gear & check out new arrivals!
URL:https://mtlacrosse.com/event/pro-shop-open-0302/
CATEGORIES:Pro Shop Hours
END:VEVENT
BEGIN:VEVENT
DTSTART;TZID=America/Chicago:20260302T120000
DTEND;TZID=America/Chicago:20260302T200000
DTSTAMP:20260423T185617
CREATED:20260223T204255Z
LAST-MODIFIED:20260223T204436Z
UID:19556-1772452800-1772481600@mtlacrosse.com
SUMMARY:Lift Hours
DESCRIPTION:Grab your winter gear and spend the day at Mt. La Crosse!
URL:https://mtlacrosse.com/event/lift-hours-030226/
CATEGORIES:Hill Hours
END:VEVENT
BEGIN:VEVENT
DTSTART;TZID=America/Chicago:20260302T120000
DTEND;TZID=America/Chicago:20260302T210000
DTSTAMP:20260423T185617
CREATED:20260223T202723Z
LAST-MODIFIED:20260223T202824Z
UID:19543-1772452800-1772485200@mtlacrosse.com
SUMMARY:Bar Open
DESCRIPTION:The St. Bernard and ULLR Room is OPEN from 12pm – 9pm!
URL:https://mtlacrosse.com/event/bar-open-3326/
CATEGORIES:Bar Events
END:VEVENT
BEGIN:VEVENT
DTSTART;TZID=America/Chicago:20260302T150000
DTEND;TZID=America/Chicago:20260302T200000
DTSTAMP:20260423T185617
CREATED:20251211T222107Z
LAST-MODIFIED:20260108T181436Z
UID:18403-1772463600-1772481600@mtlacrosse.com
SUMMARY:Student Night
DESCRIPTION:Monday Night – Student Night from 3 p.m. – 8 p.m. \nVisit the link below to purchase your tickets! \nhttps://shop.mtlacrosse.com/Specials
URL:https://mtlacrosse.com/event/student-night-3226/
CATEGORIES:Special Night Discounts
END:VEVENT
END:VCALENDAR