BEGIN:VCALENDAR
VERSION:2.0
PRODID:-//Mt. La Crosse Ski and Snowboard - ECPv6.14.2//NONSGML v1.0//EN
CALSCALE:GREGORIAN
METHOD:PUBLISH
X-WR-CALNAME:Mt. La Crosse Ski and Snowboard
X-ORIGINAL-URL:https://mtlacrosse.com
X-WR-CALDESC:Events for Mt. La Crosse Ski and Snowboard
REFRESH-INTERVAL;VALUE=DURATION:PT1H
X-Robots-Tag:noindex
X-PUBLISHED-TTL:PT1H
BEGIN:VTIMEZONE
TZID:America/Chicago
BEGIN:DAYLIGHT
TZOFFSETFROM:-0600
TZOFFSETTO:-0500
TZNAME:CDT
DTSTART:20260308T080000
END:DAYLIGHT
BEGIN:STANDARD
TZOFFSETFROM:-0500
TZOFFSETTO:-0600
TZNAME:CST
DTSTART:20261101T070000
END:STANDARD
END:VTIMEZONE
BEGIN:VEVENT
DTSTART;TZID=America/Chicago:20260105T120000
DTEND;TZID=America/Chicago:20260105T210000
DTSTAMP:20260423T131921
CREATED:20251214T235004Z
LAST-MODIFIED:20260108T171312Z
UID:18629-1767614400-1767646800@mtlacrosse.com
SUMMARY:Bar Open
DESCRIPTION:The St. Bernard and ULLR Room is OPEN from 12pm – 9pm!
URL:https://mtlacrosse.com/event/bar-open-1526/
CATEGORIES:Bar Events
END:VEVENT
END:VCALENDAR