BEGIN:VCALENDAR
VERSION:2.0
PRODID:-//Mt. La Crosse Ski and Snowboard - ECPv6.14.2//NONSGML v1.0//EN
CALSCALE:GREGORIAN
METHOD:PUBLISH
X-WR-CALNAME:Mt. La Crosse Ski and Snowboard
X-ORIGINAL-URL:https://mtlacrosse.com
X-WR-CALDESC:Events for Mt. La Crosse Ski and Snowboard
REFRESH-INTERVAL;VALUE=DURATION:PT1H
X-Robots-Tag:noindex
X-PUBLISHED-TTL:PT1H
BEGIN:VTIMEZONE
TZID:America/Chicago
BEGIN:DAYLIGHT
TZOFFSETFROM:-0600
TZOFFSETTO:-0500
TZNAME:CDT
DTSTART:20230312T080000
END:DAYLIGHT
BEGIN:STANDARD
TZOFFSETFROM:-0500
TZOFFSETTO:-0600
TZNAME:CST
DTSTART:20231105T070000
END:STANDARD
BEGIN:DAYLIGHT
TZOFFSETFROM:-0600
TZOFFSETTO:-0500
TZNAME:CDT
DTSTART:20240310T080000
END:DAYLIGHT
BEGIN:STANDARD
TZOFFSETFROM:-0500
TZOFFSETTO:-0600
TZNAME:CST
DTSTART:20241103T070000
END:STANDARD
BEGIN:DAYLIGHT
TZOFFSETFROM:-0600
TZOFFSETTO:-0500
TZNAME:CDT
DTSTART:20250309T080000
END:DAYLIGHT
BEGIN:STANDARD
TZOFFSETFROM:-0500
TZOFFSETTO:-0600
TZNAME:CST
DTSTART:20251102T070000
END:STANDARD
END:VTIMEZONE
BEGIN:VEVENT
DTSTART;TZID=America/Chicago:20250228T180000
DTEND;TZID=America/Chicago:20250228T210000
DTSTAMP:20260425T095244
CREATED:20250228T194938Z
LAST-MODIFIED:20250228T195644Z
UID:16183-1740765600-1740776400@mtlacrosse.com
SUMMARY:Toppling Goliath Snowboard Giveaway Party
DESCRIPTION:Come for the fun\, and stay for the giveaway! Try your chance to win a brand new snowboard! \nThroughout the night\, we will be celebrating with prize drawings. \nSnowboard Giveaway Time: 8:30pm \n*Must be present to win*
URL:https://mtlacrosse.com/event/toppling-goliath-snowboard-giveaway-party/
CATEGORIES:Bar Events
END:VEVENT
BEGIN:VEVENT
DTSTART;TZID=America/Chicago:20250227T190000
DTEND;TZID=America/Chicago:20250227T210000
DTSTAMP:20260425T095244
CREATED:20241208T202435Z
LAST-MODIFIED:20241208T202435Z
UID:14611-1740682800-1740690000@mtlacrosse.com
SUMMARY:Trivia with Tim
DESCRIPTION:Enjoy Trivia with Tim\, every Thursday at 7pm\, in the St. Bernard Room!
URL:https://mtlacrosse.com/event/trivia-with-tim-18/
CATEGORIES:Bar Events
END:VEVENT
BEGIN:VEVENT
DTSTART;TZID=America/Chicago:20250220T190000
DTEND;TZID=America/Chicago:20250220T210000
DTSTAMP:20260425T095244
CREATED:20241208T202407Z
LAST-MODIFIED:20241208T202407Z
UID:14612-1740078000-1740085200@mtlacrosse.com
SUMMARY:Trivia with Tim
DESCRIPTION:Enjoy Trivia with Tim\, every Thursday at 7pm\, in the St. Bernard Room!
URL:https://mtlacrosse.com/event/trivia-with-tim-17/
CATEGORIES:Bar Events
END:VEVENT
BEGIN:VEVENT
DTSTART;TZID=America/Chicago:20250213T190000
DTEND;TZID=America/Chicago:20250213T210000
DTSTAMP:20260425T095244
CREATED:20241208T202309Z
LAST-MODIFIED:20241208T202309Z
UID:14613-1739473200-1739480400@mtlacrosse.com
SUMMARY:Trivia with Tim
DESCRIPTION:Enjoy Trivia with Tim\, every Thursday at 7pm\, in the St. Bernard Room!
URL:https://mtlacrosse.com/event/trivia-with-tim-16/
CATEGORIES:Bar Events
END:VEVENT
BEGIN:VEVENT
DTSTART;TZID=America/Chicago:20250206T190000
DTEND;TZID=America/Chicago:20250206T210000
DTSTAMP:20260425T095244
CREATED:20241208T202237Z
LAST-MODIFIED:20241208T202237Z
UID:14614-1738868400-1738875600@mtlacrosse.com
SUMMARY:Trivia with Tim
DESCRIPTION:Enjoy Trivia with Tim\, every Thursday at 7pm\, in the St. Bernard Room!
URL:https://mtlacrosse.com/event/trivia-with-tim-15/
CATEGORIES:Bar Events
END:VEVENT
BEGIN:VEVENT
DTSTART;TZID=America/Chicago:20250130T190000
DTEND;TZID=America/Chicago:20250130T210000
DTSTAMP:20260425T095244
CREATED:20241208T202143Z
LAST-MODIFIED:20241208T202143Z
UID:14615-1738263600-1738270800@mtlacrosse.com
SUMMARY:Trivia with Tim
DESCRIPTION:Enjoy Trivia with Tim\, every Thursday at 7pm\, in the St. Bernard Room!
URL:https://mtlacrosse.com/event/trivia-with-tim-14/
CATEGORIES:Bar Events
END:VEVENT
BEGIN:VEVENT
DTSTART;TZID=America/Chicago:20250123T190000
DTEND;TZID=America/Chicago:20250123T210000
DTSTAMP:20260425T095244
CREATED:20241208T201349Z
LAST-MODIFIED:20241208T202020Z
UID:14617-1737658800-1737666000@mtlacrosse.com
SUMMARY:Trivia with Tim
DESCRIPTION:Enjoy Trivia with Tim\, every Thursday at 7pm\, in the St. Bernard Room!
URL:https://mtlacrosse.com/event/trivia-with-tim-12/
CATEGORIES:Bar Events
END:VEVENT
BEGIN:VEVENT
DTSTART;VALUE=DATE:20250121
DTEND;VALUE=DATE:20250122
DTSTAMP:20260425T095244
CREATED:20250120T182832Z
LAST-MODIFIED:20250120T182832Z
UID:15625-1737417600-1737503999@mtlacrosse.com
SUMMARY:Bar Closed
DESCRIPTION:
URL:https://mtlacrosse.com/event/bar-closed-1-21/
CATEGORIES:Bar Events
END:VEVENT
BEGIN:VEVENT
DTSTART;VALUE=DATE:20250120
DTEND;VALUE=DATE:20250121
DTSTAMP:20260425T095244
CREATED:20250120T182734Z
LAST-MODIFIED:20250120T182734Z
UID:15623-1737331200-1737417599@mtlacrosse.com
SUMMARY:Bar Closed
DESCRIPTION:
URL:https://mtlacrosse.com/event/bar-closed-1-20/
CATEGORIES:Bar Events
END:VEVENT
BEGIN:VEVENT
DTSTART;TZID=America/Chicago:20250116T190000
DTEND;TZID=America/Chicago:20250116T210000
DTSTAMP:20260425T095244
CREATED:20241208T202059Z
LAST-MODIFIED:20241208T202059Z
UID:14616-1737054000-1737061200@mtlacrosse.com
SUMMARY:Trivia with Tim
DESCRIPTION:Enjoy Trivia with Tim\, every Thursday at 7pm\, in the St. Bernard Room!
URL:https://mtlacrosse.com/event/trivia-with-tim-13/
CATEGORIES:Bar Events
END:VEVENT
BEGIN:VEVENT
DTSTART;TZID=America/Chicago:20250109T190000
DTEND;TZID=America/Chicago:20250109T210000
DTSTAMP:20260425T095244
CREATED:20241208T201320Z
LAST-MODIFIED:20241208T201320Z
UID:14618-1736449200-1736456400@mtlacrosse.com
SUMMARY:Trivia with Tim
DESCRIPTION:Enjoy Trivia with Tim\, every Thursday at 7pm\, in the St. Bernard Room!
URL:https://mtlacrosse.com/event/trivia-with-tim-11/
CATEGORIES:Bar Events
END:VEVENT
BEGIN:VEVENT
DTSTART;TZID=America/Chicago:20250102T190000
DTEND;TZID=America/Chicago:20250102T210000
DTSTAMP:20260425T095244
CREATED:20241208T201250Z
LAST-MODIFIED:20241208T201251Z
UID:14619-1735844400-1735851600@mtlacrosse.com
SUMMARY:Trivia with Tim
DESCRIPTION:Enjoy Trivia with Tim\, every Thursday at 7pm\, in the St. Bernard Room!
URL:https://mtlacrosse.com/event/trivia-with-tim-10/
CATEGORIES:Bar Events
END:VEVENT
BEGIN:VEVENT
DTSTART;TZID=America/Chicago:20241226T190000
DTEND;TZID=America/Chicago:20241226T210000
DTSTAMP:20260425T095244
CREATED:20241208T184826Z
LAST-MODIFIED:20241208T184826Z
UID:14603-1735239600-1735246800@mtlacrosse.com
SUMMARY:Trivia with Tim
DESCRIPTION:Enjoy Trivia with Tim\, every Thursday at 7pm\, in the St. Bernard Room!
URL:https://mtlacrosse.com/event/trivia-with-tim-9/
CATEGORIES:Bar Events
END:VEVENT
BEGIN:VEVENT
DTSTART;TZID=America/Chicago:20241219T190000
DTEND;TZID=America/Chicago:20241219T210000
DTSTAMP:20260425T095244
CREATED:20241208T184704Z
LAST-MODIFIED:20241208T184704Z
UID:14607-1734634800-1734642000@mtlacrosse.com
SUMMARY:Trivia with Tim
DESCRIPTION:Enjoy Trivia with Tim\, every Thursday at 7pm\, in the St. Bernard Room!
URL:https://mtlacrosse.com/event/trivia-with-tim-8/
CATEGORIES:Bar Events
END:VEVENT
BEGIN:VEVENT
DTSTART;TZID=America/Chicago:20241213T190000
DTEND;TZID=America/Chicago:20241213T210000
DTSTAMP:20260425T095244
CREATED:20241208T211018Z
LAST-MODIFIED:20241208T211018Z
UID:14682-1734116400-1734123600@mtlacrosse.com
SUMMARY:Welcome Winter Party
DESCRIPTION:Join us for a party to get the season started! We will be featuring giveaways\, live music by David Nash\, and Sam Adams Winter Lager! \nFriday\, 12/13 | 7 p.m. – 9 p.m.
URL:https://mtlacrosse.com/event/welcome-winter-party/
CATEGORIES:Bar Events,Hill Event
END:VEVENT
BEGIN:VEVENT
DTSTART;TZID=America/Chicago:20241212T190000
DTEND;TZID=America/Chicago:20241212T210000
DTSTAMP:20260425T095244
CREATED:20241208T184614Z
LAST-MODIFIED:20241208T184614Z
UID:14606-1734030000-1734037200@mtlacrosse.com
SUMMARY:Trivia with Tim
DESCRIPTION:Enjoy Trivia with Tim\, every Thursday at 7pm\, in the St. Bernard Room!
URL:https://mtlacrosse.com/event/trivia-with-tim-7/
CATEGORIES:Bar Events
END:VEVENT
BEGIN:VEVENT
DTSTART;VALUE=DATE:20240309
DTEND;VALUE=DATE:20240311
DTSTAMP:20260425T095244
CREATED:20240302T201047Z
LAST-MODIFIED:20240302T201047Z
UID:13074-1709942400-1710115199@mtlacrosse.com
SUMMARY:Mountain Meltdown Party
DESCRIPTION:
URL:https://mtlacrosse.com/event/mountain-meltdown-party/
CATEGORIES:Bar Events,Hill Event,Live Music
END:VEVENT
BEGIN:VEVENT
DTSTART;TZID=America/Chicago:20240222T190000
DTEND;TZID=America/Chicago:20240222T210000
DTSTAMP:20260425T095244
CREATED:20240212T044307Z
LAST-MODIFIED:20240212T044307Z
UID:12843-1708628400-1708635600@mtlacrosse.com
SUMMARY:Trivia with Tim
DESCRIPTION:Enjoy Trivia with Tim\, every Thursday at 7pm\, in the St. Bernard Room!
URL:https://mtlacrosse.com/event/trivia-with-tim-5/
CATEGORIES:Bar Events
END:VEVENT
BEGIN:VEVENT
DTSTART;TZID=America/Chicago:20240215T190000
DTEND;TZID=America/Chicago:20240215T210000
DTSTAMP:20260425T095244
CREATED:20240212T044209Z
LAST-MODIFIED:20240212T044209Z
UID:12841-1708023600-1708030800@mtlacrosse.com
SUMMARY:Trivia with Tim
DESCRIPTION:Enjoy Trivia with Tim\, every Thursday at 7pm\, in the St. Bernard Room!
URL:https://mtlacrosse.com/event/trivia-with-tim-4/
CATEGORIES:Bar Events
END:VEVENT
BEGIN:VEVENT
DTSTART;TZID=America/Chicago:20240208T190000
DTEND;TZID=America/Chicago:20240208T210000
DTSTAMP:20260425T095244
CREATED:20240205T033000Z
LAST-MODIFIED:20240208T035912Z
UID:12628-1707418800-1707426000@mtlacrosse.com
SUMMARY:Trivia with Tim
DESCRIPTION:Enjoy Trivia with Tim\, every Thursday at 7pm\, in the St. Bernard Room!
URL:https://mtlacrosse.com/event/trivia-with-tim-3/
CATEGORIES:Bar Events
END:VEVENT
BEGIN:VEVENT
DTSTART;TZID=America/Chicago:20240201T190000
DTEND;TZID=America/Chicago:20240201T210000
DTSTAMP:20260425T095244
CREATED:20240123T161147Z
LAST-MODIFIED:20240123T161758Z
UID:12504-1706814000-1706821200@mtlacrosse.com
SUMMARY:Trivia with Tim
DESCRIPTION:
URL:https://mtlacrosse.com/event/trivia-with-tim-2/
CATEGORIES:Bar Events
END:VEVENT
BEGIN:VEVENT
DTSTART;TZID=America/Chicago:20240125T190000
DTEND;TZID=America/Chicago:20240125T210000
DTSTAMP:20260425T095244
CREATED:20240123T160943Z
LAST-MODIFIED:20240123T161640Z
UID:12502-1706209200-1706216400@mtlacrosse.com
SUMMARY:Trivia with Tim
DESCRIPTION:
URL:https://mtlacrosse.com/event/trivia-with-tim/
CATEGORIES:Bar Events
END:VEVENT
BEGIN:VEVENT
DTSTART;TZID=America/Chicago:20231214T190000
DTEND;TZID=America/Chicago:20231214T210000
DTSTAMP:20260425T095244
CREATED:20241208T184459Z
LAST-MODIFIED:20241208T184459Z
UID:14604-1702580400-1702587600@mtlacrosse.com
SUMMARY:Trivia with Tim
DESCRIPTION:Enjoy Trivia with Tim\, every Thursday at 7pm\, in the St. Bernard Room!
URL:https://mtlacrosse.com/event/trivia-with-tim-6/
CATEGORIES:Bar Events
END:VEVENT
END:VCALENDAR