BEGIN:VCALENDAR
VERSION:2.0
PRODID:-//Mt. La Crosse Ski and Snowboard - ECPv6.14.2//NONSGML v1.0//EN
CALSCALE:GREGORIAN
METHOD:PUBLISH
X-WR-CALNAME:Mt. La Crosse Ski and Snowboard
X-ORIGINAL-URL:https://mtlacrosse.com
X-WR-CALDESC:Events for Mt. La Crosse Ski and Snowboard
REFRESH-INTERVAL;VALUE=DURATION:PT1H
X-Robots-Tag:noindex
X-PUBLISHED-TTL:PT1H
BEGIN:VTIMEZONE
TZID:America/Chicago
BEGIN:DAYLIGHT
TZOFFSETFROM:-0600
TZOFFSETTO:-0500
TZNAME:CDT
DTSTART:20250309T080000
END:DAYLIGHT
BEGIN:STANDARD
TZOFFSETFROM:-0500
TZOFFSETTO:-0600
TZNAME:CST
DTSTART:20251102T070000
END:STANDARD
END:VTIMEZONE
BEGIN:VEVENT
DTSTART;TZID=America/Chicago:20251113T100000
DTEND;TZID=America/Chicago:20251113T180000
DTSTAMP:20260425T123355
CREATED:20251103T214043Z
LAST-MODIFIED:20251110T191901Z
UID:17662-1763028000-1763056800@mtlacrosse.com
SUMMARY:Hiring Clinic
DESCRIPTION:Save the date! We are hiring for all departments and all positions – we’d love to have you join our team! Visit our website to submit an online application! \nContact us at info@mtlacrosse.com or 608-788-0044 with any questions!
URL:https://mtlacrosse.com/event/mt-la-crosse-hiring-clinic/
CATEGORIES:Hill Event
END:VEVENT
BEGIN:VEVENT
DTSTART;TZID=America/Chicago:20251114T100000
DTEND;TZID=America/Chicago:20251114T180000
DTSTAMP:20260425T123355
CREATED:20251103T214113Z
LAST-MODIFIED:20251110T191932Z
UID:17664-1763114400-1763143200@mtlacrosse.com
SUMMARY:Hiring Clinic
DESCRIPTION:Save the date! We are hiring for all departments and all positions – we’d love to have you join our team! Visit our website to submit an online application! \nContact us at info@mtlacrosse.com or 608-788-0044 with any questions!
URL:https://mtlacrosse.com/event/mt-la-crosse-hiring-clinic-2/
CATEGORIES:Hill Event
END:VEVENT
BEGIN:VEVENT
DTSTART;TZID=America/Chicago:20251114T100000
DTEND;TZID=America/Chicago:20251114T180000
DTSTAMP:20260425T123355
CREATED:20251110T194524Z
LAST-MODIFIED:20251110T194524Z
UID:17710-1763114400-1763143200@mtlacrosse.com
SUMMARY:Season Pass Pick Up
DESCRIPTION:2025 – 2026 Season Passes have been PRINTED! Come out and grab yours today!
URL:https://mtlacrosse.com/event/season-pass-pick-up/
CATEGORIES:Hill Event
END:VEVENT
BEGIN:VEVENT
DTSTART;TZID=America/Chicago:20251114T180000
DTEND;TZID=America/Chicago:20251114T200000
DTSTAMP:20260425T123355
CREATED:20251103T220327Z
LAST-MODIFIED:20251103T222314Z
UID:17668-1763143200-1763150400@mtlacrosse.com
SUMMARY:ORNADA: The Armada Team Movie Showing
DESCRIPTION:ORNADA \nThe Armada Team Movie we’ve all been waiting for! Starring some of the best riders in the game slaying everything from the steepest lines in Alaska to rowdy street sessions in Utah. \nFriday\, November 14 from 6pm – 8pm \nDoors Open: 6pm | Movie Starts: 7pm | Movie Ends: 8pm \nPro Shop Hours: 10am – 7pm | St. Bernard Bar Hours: 6pm – 10pm \nBoard Room Showing: Ages 18+ \nULLR Room Showing: Ages 21+ \nMUST HAVE TICKET TO WATCH MOVIE \nPre-Purchase Tickets Here: Store – Mt LaCrosse \n$10 Ticket With Pre-Purchase | $15 Ticket Day Of Event \n**Please note movie is recommended for ages 18+ due to colorful language** \n 
URL:https://mtlacrosse.com/event/ornada-the-armada-team-movie/
CATEGORIES:Hill Event
END:VEVENT
END:VCALENDAR