BEGIN:VCALENDAR
VERSION:2.0
PRODID:-//Mt. La Crosse Ski and Snowboard - ECPv6.14.2//NONSGML v1.0//EN
CALSCALE:GREGORIAN
METHOD:PUBLISH
X-WR-CALNAME:Mt. La Crosse Ski and Snowboard
X-ORIGINAL-URL:https://mtlacrosse.com
X-WR-CALDESC:Events for Mt. La Crosse Ski and Snowboard
REFRESH-INTERVAL;VALUE=DURATION:PT1H
X-Robots-Tag:noindex
X-PUBLISHED-TTL:PT1H
BEGIN:VTIMEZONE
TZID:America/Chicago
BEGIN:DAYLIGHT
TZOFFSETFROM:-0600
TZOFFSETTO:-0500
TZNAME:CDT
DTSTART:20260308T080000
END:DAYLIGHT
BEGIN:STANDARD
TZOFFSETFROM:-0500
TZOFFSETTO:-0600
TZNAME:CST
DTSTART:20261101T070000
END:STANDARD
END:VTIMEZONE
BEGIN:VEVENT
DTSTART;TZID=America/Chicago:20260101T120000
DTEND;TZID=America/Chicago:20260101T140000
DTSTAMP:20260425T074931
CREATED:20251205T222659Z
LAST-MODIFIED:20251228T193427Z
UID:18130-1767268800-1767276000@mtlacrosse.com
SUMMARY:Revognah & Alumni and New Year\, New You Kid Race
DESCRIPTION:Join us for the Revognah & Alumni Race and New Year\, New You Kid Race on New Year’s Day! \nRace Time: 12pm | 2 Giant Slalom Runs \nRevognah & Alumni Race: Ages 21+ | New Year\, New You Kid Race: Ages 20 & under \nPre-Registration is required – Ends at 10:30am Day Of \nLearn More Here: Hometown Racing \n 
URL:https://mtlacrosse.com/event/revognah-alumni-race/
CATEGORIES:Hill Event,Racing
END:VEVENT
BEGIN:VEVENT
DTSTART;TZID=America/Chicago:20260114T170000
DTEND;TZID=America/Chicago:20260114T200000
DTSTAMP:20260425T074931
CREATED:20260109T212204Z
LAST-MODIFIED:20260109T212204Z
UID:19281-1768410000-1768420800@mtlacrosse.com
SUMMARY:Girl Winter Series: Wine & Mug Painting
DESCRIPTION:GIRL WINTER @ MT. LA CROSSE\n\nLadies — it’s Girl Winter.\nJoin us for FREE wine glass & mug painting!Specialty wine & charcuterie boards available for purchase!Bring your friends and enjoy a fun\, relaxed night with friends.Kids & Adults Welcome!\n\nLocation: Ullr Room at Mt. La Crosse\nPurchase Girl Winter Film Tickets Here: https://shop.mtlacrosse.com/events\nLearn More About Girl Winter Film Here: https://girlwinterfilmtour.com/
URL:https://mtlacrosse.com/event/girl-winter-series-1-14-26/
CATEGORIES:Bar Events,Hill Event
END:VEVENT
BEGIN:VEVENT
DTSTART;VALUE=DATE:20260124
DTEND;VALUE=DATE:20260126
DTSTAMP:20260425T074931
CREATED:20251124T171738Z
LAST-MODIFIED:20260108T011557Z
UID:17920-1769212800-1769385599@mtlacrosse.com
SUMMARY:Dan Nagy Memorial Race
DESCRIPTION:
URL:https://mtlacrosse.com/event/dan-nagy-memorial-race/
CATEGORIES:Hill Event,Racing
END:VEVENT
BEGIN:VEVENT
DTSTART;TZID=America/Chicago:20260128T170000
DTEND;TZID=America/Chicago:20260128T200000
DTSTAMP:20260425T074931
CREATED:20260109T212410Z
LAST-MODIFIED:20260109T212752Z
UID:19284-1769619600-1769630400@mtlacrosse.com
SUMMARY:Girl Winter Series: Après Tote & Ski Bag Tag
DESCRIPTION:Ladies — it’s Girl Winter.\nJoin us for Après Tote Bag decorating and Ski Bag Tag making.Specialty cocktails & charcuterie boards available for purchase!Bring your friends and enjoy a fun\, relaxed night.Kids & Adults Welcome!\n\nLocation: Ullr Room at Mt. La Crosse\nTotes: $5Ski Tags & Charms: FREEBYO Blank Tote\, Shirt\, Hat\, etc.\n\nPurchase Girl Winter Film Tickets Here: https://shop.mtlacrosse.com/events\nLearn More About Girl Winter Film Here: https://girlwinterfilmtour.com/
URL:https://mtlacrosse.com/event/girl-winter-series-1-28-26/
CATEGORIES:Bar Events,Hill Event
END:VEVENT
BEGIN:VEVENT
DTSTART;VALUE=DATE:20260131
DTEND;VALUE=DATE:20260202
DTSTAMP:20260425T074931
CREATED:20251124T173509Z
LAST-MODIFIED:20251124T174201Z
UID:17942-1769817600-1769990399@mtlacrosse.com
SUMMARY:USCSA Midwest Race
DESCRIPTION:
URL:https://mtlacrosse.com/event/uscsa-midwest-race/
CATEGORIES:Hill Event,Racing
END:VEVENT
END:VCALENDAR