BEGIN:VCALENDAR
VERSION:2.0
PRODID:-//Mt. La Crosse Ski and Snowboard - ECPv6.14.2//NONSGML v1.0//EN
CALSCALE:GREGORIAN
METHOD:PUBLISH
X-ORIGINAL-URL:https://mtlacrosse.com
X-WR-CALDESC:Events for Mt. La Crosse Ski and Snowboard
REFRESH-INTERVAL;VALUE=DURATION:PT1H
X-Robots-Tag:noindex
X-PUBLISHED-TTL:PT1H
BEGIN:VTIMEZONE
TZID:America/Chicago
BEGIN:DAYLIGHT
TZOFFSETFROM:-0600
TZOFFSETTO:-0500
TZNAME:CDT
DTSTART:20260308T080000
END:DAYLIGHT
BEGIN:STANDARD
TZOFFSETFROM:-0500
TZOFFSETTO:-0600
TZNAME:CST
DTSTART:20261101T070000
END:STANDARD
END:VTIMEZONE
BEGIN:VEVENT
DTSTART;VALUE=DATE:20260304
DTEND;VALUE=DATE:20260305
DTSTAMP:20260425T110149
CREATED:20260309T162623Z
LAST-MODIFIED:20260309T162623Z
UID:19746-1772582400-1772668799@mtlacrosse.com
SUMMARY:Season Pass Sale
DESCRIPTION:Purchase your 2026-2027 Season Pass Here: Season Passes
URL:https://mtlacrosse.com/event/season-pass-sale-4/
CATEGORIES:Hill Event
END:VEVENT
BEGIN:VEVENT
DTSTART;TZID=America/Chicago:20260304T170000
DTEND;TZID=America/Chicago:20260304T200000
DTSTAMP:20260425T110149
CREATED:20260302T232513Z
LAST-MODIFIED:20260302T233235Z
UID:19629-1772643600-1772654400@mtlacrosse.com
SUMMARY:Girl Winter Series: Knitting\, Crocheting\, Trucker Hats & More!
DESCRIPTION:Ladies — it’s Girl Spring.\nJoin us for knitting\, crocheting\, tote bags & trucker hats! Specialty cocktails & charcuterie cups available for purchase. Bring your gals & enjoy a night of fun\, laughter & crafts!Totes: $5Trucker Hats: $10BYO Yarn Supplies – Select Materials Available
URL:https://mtlacrosse.com/event/girl-winter-series-3-4-26/
CATEGORIES:Bar Events,Hill Event
END:VEVENT
BEGIN:VEVENT
DTSTART;VALUE=DATE:20260305
DTEND;VALUE=DATE:20260306
DTSTAMP:20260425T110149
CREATED:20260309T162635Z
LAST-MODIFIED:20260309T162635Z
UID:19745-1772668800-1772755199@mtlacrosse.com
SUMMARY:Season Pass Sale
DESCRIPTION:Purchase your 2026-2027 Season Pass Here: Season Passes
URL:https://mtlacrosse.com/event/season-pass-sale-5/
CATEGORIES:Hill Event
END:VEVENT
BEGIN:VEVENT
DTSTART;VALUE=DATE:20260306
DTEND;VALUE=DATE:20260307
DTSTAMP:20260425T110149
CREATED:20260309T162647Z
LAST-MODIFIED:20260309T162647Z
UID:19744-1772755200-1772841599@mtlacrosse.com
SUMMARY:Season Pass Sale
DESCRIPTION:Purchase your 2026-2027 Season Pass Here: Season Passes
URL:https://mtlacrosse.com/event/season-pass-sale-6/
CATEGORIES:Hill Event
END:VEVENT
BEGIN:VEVENT
DTSTART;VALUE=DATE:20260307
DTEND;VALUE=DATE:20260308
DTSTAMP:20260425T110149
CREATED:20260309T162659Z
LAST-MODIFIED:20260309T162659Z
UID:19743-1772841600-1772927999@mtlacrosse.com
SUMMARY:Season Pass Sale
DESCRIPTION:Purchase your 2026-2027 Season Pass Here: Season Passes
URL:https://mtlacrosse.com/event/season-pass-sale-7/
CATEGORIES:Hill Event
END:VEVENT
BEGIN:VEVENT
DTSTART;VALUE=DATE:20260308
DTEND;VALUE=DATE:20260309
DTSTAMP:20260425T110149
CREATED:20260309T162713Z
LAST-MODIFIED:20260309T162713Z
UID:19742-1772928000-1773014399@mtlacrosse.com
SUMMARY:Season Pass Sale
DESCRIPTION:Purchase your 2026-2027 Season Pass Here: Season Passes
URL:https://mtlacrosse.com/event/season-pass-sale-8/
CATEGORIES:Hill Event
END:VEVENT
BEGIN:VEVENT
DTSTART;VALUE=DATE:20260309
DTEND;VALUE=DATE:20260310
DTSTAMP:20260425T110149
CREATED:20260309T162725Z
LAST-MODIFIED:20260309T162725Z
UID:19741-1773014400-1773100799@mtlacrosse.com
SUMMARY:Season Pass Sale
DESCRIPTION:Purchase your 2026-2027 Season Pass Here: Season Passes
URL:https://mtlacrosse.com/event/season-pass-sale-9/
CATEGORIES:Hill Event
END:VEVENT
BEGIN:VEVENT
DTSTART;VALUE=DATE:20260310
DTEND;VALUE=DATE:20260311
DTSTAMP:20260425T110149
CREATED:20260309T162826Z
LAST-MODIFIED:20260309T162826Z
UID:19740-1773100800-1773187199@mtlacrosse.com
SUMMARY:Season Pass Sale
DESCRIPTION:Purchase your 2026-2027 Season Pass Here: Season Passes
URL:https://mtlacrosse.com/event/season-pass-sale-10/
CATEGORIES:Hill Event
END:VEVENT
BEGIN:VEVENT
DTSTART;VALUE=DATE:20260311
DTEND;VALUE=DATE:20260312
DTSTAMP:20260425T110149
CREATED:20260309T162852Z
LAST-MODIFIED:20260309T162852Z
UID:19739-1773187200-1773273599@mtlacrosse.com
SUMMARY:Season Pass Sale
DESCRIPTION:Purchase your 2026-2027 Season Pass Here: Season Passes
URL:https://mtlacrosse.com/event/season-pass-sale-11/
CATEGORIES:Hill Event
END:VEVENT
BEGIN:VEVENT
DTSTART;VALUE=DATE:20260312
DTEND;VALUE=DATE:20260313
DTSTAMP:20260425T110149
CREATED:20260309T162908Z
LAST-MODIFIED:20260309T162908Z
UID:19738-1773273600-1773359999@mtlacrosse.com
SUMMARY:Season Pass Sale
DESCRIPTION:Purchase your 2026-2027 Season Pass Here: Season Passes
URL:https://mtlacrosse.com/event/season-pass-sale-12/
CATEGORIES:Hill Event
END:VEVENT
BEGIN:VEVENT
DTSTART;VALUE=DATE:20260313
DTEND;VALUE=DATE:20260314
DTSTAMP:20260425T110149
CREATED:20260309T162919Z
LAST-MODIFIED:20260309T162919Z
UID:19737-1773360000-1773446399@mtlacrosse.com
SUMMARY:Season Pass Sale
DESCRIPTION:Purchase your 2026-2027 Season Pass Here: Season Passes
URL:https://mtlacrosse.com/event/season-pass-sale-13/
CATEGORIES:Hill Event
END:VEVENT
BEGIN:VEVENT
DTSTART;VALUE=DATE:20260314
DTEND;VALUE=DATE:20260315
DTSTAMP:20260425T110149
CREATED:20260309T162932Z
LAST-MODIFIED:20260309T162932Z
UID:19736-1773446400-1773532799@mtlacrosse.com
SUMMARY:Season Pass Sale
DESCRIPTION:Purchase your 2026-2027 Season Pass Here: Season Passes
URL:https://mtlacrosse.com/event/season-pass-sale-14/
CATEGORIES:Hill Event
END:VEVENT
BEGIN:VEVENT
DTSTART;TZID=America/Chicago:20260314T130000
DTEND;TZID=America/Chicago:20260314T190000
DTSTAMP:20260425T110149
CREATED:20260307T163239Z
LAST-MODIFIED:20260307T163239Z
UID:19679-1773493200-1773514800@mtlacrosse.com
SUMMARY:Mountain Meltdown Party
DESCRIPTION:Ready to celebrate the end of the season? The Mountain Meltdown Party is Saturday\, 3/14\, with live music\, a snowboard giveaway\, and fun!
URL:https://mtlacrosse.com/event/mountain-meltdown-party-2026/
CATEGORIES:Bar Events,Hill Event
END:VEVENT
BEGIN:VEVENT
DTSTART;VALUE=DATE:20260315
DTEND;VALUE=DATE:20260316
DTSTAMP:20260425T110149
CREATED:20260309T162943Z
LAST-MODIFIED:20260309T162943Z
UID:19735-1773532800-1773619199@mtlacrosse.com
SUMMARY:Season Pass Sale
DESCRIPTION:Purchase your 2026-2027 Season Pass Here: Season Passes
URL:https://mtlacrosse.com/event/season-pass-sale-15/
CATEGORIES:Hill Event
END:VEVENT
BEGIN:VEVENT
DTSTART;TZID=America/Chicago:20260411T100000
DTEND;TZID=America/Chicago:20260411T160000
DTSTAMP:20260425T110149
CREATED:20260309T162205Z
LAST-MODIFIED:20260401T204803Z
UID:19731-1775901600-1775923200@mtlacrosse.com
SUMMARY:Pro Shop Patio Party Sale
DESCRIPTION:
URL:https://mtlacrosse.com/event/patiopartysale/
CATEGORIES:Hill Event
END:VEVENT
BEGIN:VEVENT
DTSTART;VALUE=DATE:20260807
DTEND;VALUE=DATE:20260808
DTSTAMP:20260425T110149
CREATED:20260309T170933Z
LAST-MODIFIED:20260309T170933Z
UID:19873-1786060800-1786147199@mtlacrosse.com
SUMMARY:Summit Series: Alpine Challenge & Patio Party
DESCRIPTION:Tackle the climb\, crush the trails\, and celebrate on the patio — join us for the ultimate uphill foot race and trail mile\, capped off with a fun patio party at the ski hill!
URL:https://mtlacrosse.com/event/summit-series-0807/
CATEGORIES:Hill Event
END:VEVENT
END:VCALENDAR