BEGIN:VCALENDAR
VERSION:2.0
PRODID:-//Mt. La Crosse Ski and Snowboard - ECPv6.14.2//NONSGML v1.0//EN
CALSCALE:GREGORIAN
METHOD:PUBLISH
X-WR-CALNAME:Mt. La Crosse Ski and Snowboard
X-ORIGINAL-URL:https://mtlacrosse.com
X-WR-CALDESC:Events for Mt. La Crosse Ski and Snowboard
REFRESH-INTERVAL;VALUE=DURATION:PT1H
X-Robots-Tag:noindex
X-PUBLISHED-TTL:PT1H
BEGIN:VTIMEZONE
TZID:America/Chicago
BEGIN:DAYLIGHT
TZOFFSETFROM:-0600
TZOFFSETTO:-0500
TZNAME:CDT
DTSTART:20250309T080000
END:DAYLIGHT
BEGIN:STANDARD
TZOFFSETFROM:-0500
TZOFFSETTO:-0600
TZNAME:CST
DTSTART:20251102T070000
END:STANDARD
END:VTIMEZONE
BEGIN:VEVENT
DTSTART;TZID=America/Chicago:20250101T100000
DTEND;TZID=America/Chicago:20250101T190000
DTSTAMP:20260422T172715
CREATED:20241214T165058Z
LAST-MODIFIED:20241214T165058Z
UID:14835-1735725600-1735758000@mtlacrosse.com
SUMMARY:Pro Shop
DESCRIPTION:Pro Shop is open! Stop by and grab your favorite gear\, along with new arrivals!
URL:https://mtlacrosse.com/event/pro-shop-92/
CATEGORIES:Pro Shop Hours
END:VEVENT
BEGIN:VEVENT
DTSTART;TZID=America/Chicago:20250102T100000
DTEND;TZID=America/Chicago:20250102T190000
DTSTAMP:20260422T172715
CREATED:20241214T165117Z
LAST-MODIFIED:20241214T165117Z
UID:14834-1735812000-1735844400@mtlacrosse.com
SUMMARY:Pro Shop
DESCRIPTION:Pro Shop is open! Stop by and grab your favorite gear\, along with new arrivals!
URL:https://mtlacrosse.com/event/pro-shop-93/
CATEGORIES:Pro Shop Hours
END:VEVENT
BEGIN:VEVENT
DTSTART;TZID=America/Chicago:20250103T100000
DTEND;TZID=America/Chicago:20250103T190000
DTSTAMP:20260422T172715
CREATED:20241214T165142Z
LAST-MODIFIED:20241214T165142Z
UID:14833-1735898400-1735930800@mtlacrosse.com
SUMMARY:Pro Shop
DESCRIPTION:Pro Shop is open! Stop by and grab your favorite gear\, along with new arrivals!
URL:https://mtlacrosse.com/event/pro-shop-94/
CATEGORIES:Pro Shop Hours
END:VEVENT
BEGIN:VEVENT
DTSTART;TZID=America/Chicago:20250104T100000
DTEND;TZID=America/Chicago:20250104T190000
DTSTAMP:20260422T172715
CREATED:20241214T165157Z
LAST-MODIFIED:20241214T165157Z
UID:14832-1735984800-1736017200@mtlacrosse.com
SUMMARY:Pro Shop
DESCRIPTION:Pro Shop is open! Stop by and grab your favorite gear\, along with new arrivals!
URL:https://mtlacrosse.com/event/pro-shop-95/
CATEGORIES:Pro Shop Hours
END:VEVENT
BEGIN:VEVENT
DTSTART;TZID=America/Chicago:20250105T100000
DTEND;TZID=America/Chicago:20250105T180000
DTSTAMP:20260422T172715
CREATED:20241214T165220Z
LAST-MODIFIED:20241214T165220Z
UID:14831-1736071200-1736100000@mtlacrosse.com
SUMMARY:Pro Shop
DESCRIPTION:Pro Shop is open! Stop by and grab your favorite gear\, along with new arrivals!
URL:https://mtlacrosse.com/event/pro-shop-96/
CATEGORIES:Pro Shop Hours
END:VEVENT
BEGIN:VEVENT
DTSTART;TZID=America/Chicago:20250106T100000
DTEND;TZID=America/Chicago:20250106T190000
DTSTAMP:20260422T172715
CREATED:20241216T160737Z
LAST-MODIFIED:20241216T160737Z
UID:14878-1736157600-1736190000@mtlacrosse.com
SUMMARY:Pro Shop
DESCRIPTION:Pro Shop is open! Stop by and grab your favorite gear\, along with new arrivals!
URL:https://mtlacrosse.com/event/pro-shop-1-6-25/
CATEGORIES:Pro Shop Hours
END:VEVENT
BEGIN:VEVENT
DTSTART;TZID=America/Chicago:20250107T100000
DTEND;TZID=America/Chicago:20250107T190000
DTSTAMP:20260422T172715
CREATED:20241216T185208Z
LAST-MODIFIED:20241216T185208Z
UID:14955-1736244000-1736276400@mtlacrosse.com
SUMMARY:Pro Shop
DESCRIPTION:Pro Shop is open! Stop by and grab your favorite gear\, along with new arrivals!
URL:https://mtlacrosse.com/event/pro-shop-99/
CATEGORIES:Pro Shop Hours
END:VEVENT
BEGIN:VEVENT
DTSTART;TZID=America/Chicago:20250108T100000
DTEND;TZID=America/Chicago:20250108T190000
DTSTAMP:20260422T172715
CREATED:20241216T185244Z
LAST-MODIFIED:20241216T185244Z
UID:14954-1736330400-1736362800@mtlacrosse.com
SUMMARY:Pro Shop
DESCRIPTION:Pro Shop is open! Stop by and grab your favorite gear\, along with new arrivals!
URL:https://mtlacrosse.com/event/pro-shop-100/
CATEGORIES:Pro Shop Hours
END:VEVENT
BEGIN:VEVENT
DTSTART;TZID=America/Chicago:20250109T100000
DTEND;TZID=America/Chicago:20250109T190000
DTSTAMP:20260422T172715
CREATED:20241216T185325Z
LAST-MODIFIED:20241216T185325Z
UID:14953-1736416800-1736449200@mtlacrosse.com
SUMMARY:Pro Shop
DESCRIPTION:Pro Shop is open! Stop by and grab your favorite gear\, along with new arrivals!
URL:https://mtlacrosse.com/event/pro-shop-101/
CATEGORIES:Pro Shop Hours
END:VEVENT
BEGIN:VEVENT
DTSTART;TZID=America/Chicago:20250110T100000
DTEND;TZID=America/Chicago:20250110T190000
DTSTAMP:20260422T172715
CREATED:20241216T185517Z
LAST-MODIFIED:20241216T185517Z
UID:14952-1736503200-1736535600@mtlacrosse.com
SUMMARY:Pro Shop
DESCRIPTION:Pro Shop is open! Stop by and grab your favorite gear\, along with new arrivals!
URL:https://mtlacrosse.com/event/pro-shop-102/
CATEGORIES:Pro Shop Hours
END:VEVENT
BEGIN:VEVENT
DTSTART;TZID=America/Chicago:20250111T100000
DTEND;TZID=America/Chicago:20250111T190000
DTSTAMP:20260422T172715
CREATED:20241216T185634Z
LAST-MODIFIED:20241216T185634Z
UID:14951-1736589600-1736622000@mtlacrosse.com
SUMMARY:Pro Shop
DESCRIPTION:Pro Shop is open! Stop by and grab your favorite gear\, along with new arrivals!
URL:https://mtlacrosse.com/event/pro-shop-103/
CATEGORIES:Pro Shop Hours
END:VEVENT
BEGIN:VEVENT
DTSTART;TZID=America/Chicago:20250112T100000
DTEND;TZID=America/Chicago:20250112T180000
DTSTAMP:20260422T172715
CREATED:20241216T155733Z
LAST-MODIFIED:20241216T155733Z
UID:14881-1736676000-1736704800@mtlacrosse.com
SUMMARY:Pro Shop
DESCRIPTION:Pro Shop is open! Stop by and grab your favorite gear\, along with new arrivals!
URL:https://mtlacrosse.com/event/pro-shop-1-12-25/
CATEGORIES:Pro Shop Hours
END:VEVENT
BEGIN:VEVENT
DTSTART;TZID=America/Chicago:20250113T100000
DTEND;TZID=America/Chicago:20250113T190000
DTSTAMP:20260422T172715
CREATED:20241216T185124Z
LAST-MODIFIED:20241216T185124Z
UID:14956-1736762400-1736794800@mtlacrosse.com
SUMMARY:Pro Shop
DESCRIPTION:Pro Shop is open! Stop by and grab your favorite gear\, along with new arrivals!
URL:https://mtlacrosse.com/event/pro-shop-98/
CATEGORIES:Pro Shop Hours
END:VEVENT
BEGIN:VEVENT
DTSTART;TZID=America/Chicago:20250114T100000
DTEND;TZID=America/Chicago:20250114T190000
DTSTAMP:20260422T172715
CREATED:20250103T220611Z
LAST-MODIFIED:20250103T220611Z
UID:15380-1736848800-1736881200@mtlacrosse.com
SUMMARY:Pro Shop
DESCRIPTION:Pro Shop is open! Stop by and grab your favorite gear\, along with new arrivals!
URL:https://mtlacrosse.com/event/pro-shop-104/
CATEGORIES:Pro Shop Hours
END:VEVENT
BEGIN:VEVENT
DTSTART;TZID=America/Chicago:20250115T100000
DTEND;TZID=America/Chicago:20250115T190000
DTSTAMP:20260422T172715
CREATED:20250103T220640Z
LAST-MODIFIED:20250103T220640Z
UID:15379-1736935200-1736967600@mtlacrosse.com
SUMMARY:Pro Shop
DESCRIPTION:Pro Shop is open! Stop by and grab your favorite gear\, along with new arrivals!
URL:https://mtlacrosse.com/event/pro-shop-105/
CATEGORIES:Pro Shop Hours
END:VEVENT
BEGIN:VEVENT
DTSTART;TZID=America/Chicago:20250116T100000
DTEND;TZID=America/Chicago:20250116T190000
DTSTAMP:20260422T172715
CREATED:20250103T220705Z
LAST-MODIFIED:20250103T220705Z
UID:15378-1737021600-1737054000@mtlacrosse.com
SUMMARY:Pro Shop
DESCRIPTION:Pro Shop is open! Stop by and grab your favorite gear\, along with new arrivals!
URL:https://mtlacrosse.com/event/pro-shop-106/
CATEGORIES:Pro Shop Hours
END:VEVENT
BEGIN:VEVENT
DTSTART;TZID=America/Chicago:20250117T100000
DTEND;TZID=America/Chicago:20250117T190000
DTSTAMP:20260422T172715
CREATED:20250103T220749Z
LAST-MODIFIED:20250103T220749Z
UID:15377-1737108000-1737140400@mtlacrosse.com
SUMMARY:Pro Shop
DESCRIPTION:Pro Shop is open! Stop by and grab your favorite gear\, along with new arrivals!
URL:https://mtlacrosse.com/event/pro-shop-107/
CATEGORIES:Pro Shop Hours
END:VEVENT
BEGIN:VEVENT
DTSTART;TZID=America/Chicago:20250118T100000
DTEND;TZID=America/Chicago:20250118T190000
DTSTAMP:20260422T172715
CREATED:20250103T220819Z
LAST-MODIFIED:20250103T220819Z
UID:15376-1737194400-1737226800@mtlacrosse.com
SUMMARY:Pro Shop
DESCRIPTION:Pro Shop is open! Stop by and grab your favorite gear\, along with new arrivals!
URL:https://mtlacrosse.com/event/pro-shop-108/
CATEGORIES:Pro Shop Hours
END:VEVENT
BEGIN:VEVENT
DTSTART;TZID=America/Chicago:20250119T100000
DTEND;TZID=America/Chicago:20250119T180000
DTSTAMP:20260422T172715
CREATED:20241216T155937Z
LAST-MODIFIED:20241216T160833Z
UID:14880-1737280800-1737309600@mtlacrosse.com
SUMMARY:Pro Shop
DESCRIPTION:Pro Shop is open! Stop by and grab your favorite gear\, along with new arrivals!
URL:https://mtlacrosse.com/event/pro-shop-1-19-25/
CATEGORIES:Pro Shop Hours
END:VEVENT
BEGIN:VEVENT
DTSTART;TZID=America/Chicago:20250120T100000
DTEND;TZID=America/Chicago:20250120T170000
DTSTAMP:20260422T172715
CREATED:20250103T220843Z
LAST-MODIFIED:20250120T150326Z
UID:15375-1737367200-1737392400@mtlacrosse.com
SUMMARY:Pro Shop
DESCRIPTION:Pro Shop is open! Stop by and grab your favorite gear\, along with new arrivals!
URL:https://mtlacrosse.com/event/pro-shop-109/
CATEGORIES:Pro Shop Hours
END:VEVENT
BEGIN:VEVENT
DTSTART;TZID=America/Chicago:20250121T100000
DTEND;TZID=America/Chicago:20250121T160000
DTSTAMP:20260422T172715
CREATED:20250103T221108Z
LAST-MODIFIED:20250120T180814Z
UID:15395-1737453600-1737475200@mtlacrosse.com
SUMMARY:Pro Shop
DESCRIPTION:Pro Shop is open! Stop by and grab your favorite gear\, along with new arrivals!
URL:https://mtlacrosse.com/event/pro-shop-110/
CATEGORIES:Pro Shop Hours
END:VEVENT
BEGIN:VEVENT
DTSTART;TZID=America/Chicago:20250122T100000
DTEND;TZID=America/Chicago:20250122T190000
DTSTAMP:20260422T172715
CREATED:20250103T221133Z
LAST-MODIFIED:20250103T221133Z
UID:15394-1737540000-1737572400@mtlacrosse.com
SUMMARY:Pro Shop
DESCRIPTION:Pro Shop is open! Stop by and grab your favorite gear\, along with new arrivals!
URL:https://mtlacrosse.com/event/pro-shop-111/
CATEGORIES:Pro Shop Hours
END:VEVENT
BEGIN:VEVENT
DTSTART;TZID=America/Chicago:20250123T100000
DTEND;TZID=America/Chicago:20250123T190000
DTSTAMP:20260422T172715
CREATED:20250103T221227Z
LAST-MODIFIED:20250103T221227Z
UID:15393-1737626400-1737658800@mtlacrosse.com
SUMMARY:Pro Shop
DESCRIPTION:Pro Shop is open! Stop by and grab your favorite gear\, along with new arrivals!
URL:https://mtlacrosse.com/event/pro-shop-112/
CATEGORIES:Pro Shop Hours
END:VEVENT
BEGIN:VEVENT
DTSTART;TZID=America/Chicago:20250124T100000
DTEND;TZID=America/Chicago:20250124T190000
DTSTAMP:20260422T172715
CREATED:20250103T221402Z
LAST-MODIFIED:20250103T221402Z
UID:15392-1737712800-1737745200@mtlacrosse.com
SUMMARY:Pro Shop
DESCRIPTION:Pro Shop is open! Stop by and grab your favorite gear\, along with new arrivals!
URL:https://mtlacrosse.com/event/pro-shop-113/
CATEGORIES:Pro Shop Hours
END:VEVENT
BEGIN:VEVENT
DTSTART;TZID=America/Chicago:20250125T100000
DTEND;TZID=America/Chicago:20250125T190000
DTSTAMP:20260422T172715
CREATED:20250103T221434Z
LAST-MODIFIED:20250103T221434Z
UID:15391-1737799200-1737831600@mtlacrosse.com
SUMMARY:Pro Shop
DESCRIPTION:Pro Shop is open! Stop by and grab your favorite gear\, along with new arrivals!
URL:https://mtlacrosse.com/event/pro-shop-114/
CATEGORIES:Pro Shop Hours
END:VEVENT
BEGIN:VEVENT
DTSTART;TZID=America/Chicago:20250126T100000
DTEND;TZID=America/Chicago:20250126T180000
DTSTAMP:20260422T172715
CREATED:20241216T160519Z
LAST-MODIFIED:20241216T160519Z
UID:14879-1737885600-1737914400@mtlacrosse.com
SUMMARY:Pro Shop
DESCRIPTION:Pro Shop is open! Stop by and grab your favorite gear\, along with new arrivals!
URL:https://mtlacrosse.com/event/pro-shop-1-16-25/
CATEGORIES:Pro Shop Hours
END:VEVENT
BEGIN:VEVENT
DTSTART;TZID=America/Chicago:20250127T100000
DTEND;TZID=America/Chicago:20250127T190000
DTSTAMP:20260422T172715
CREATED:20250103T221626Z
LAST-MODIFIED:20250103T221626Z
UID:15390-1737972000-1738004400@mtlacrosse.com
SUMMARY:Pro Shop
DESCRIPTION:Pro Shop is open! Stop by and grab your favorite gear\, along with new arrivals!
URL:https://mtlacrosse.com/event/pro-shop-115/
CATEGORIES:Pro Shop Hours
END:VEVENT
BEGIN:VEVENT
DTSTART;TZID=America/Chicago:20250128T100000
DTEND;TZID=America/Chicago:20250128T190000
DTSTAMP:20260422T172715
CREATED:20250103T221801Z
LAST-MODIFIED:20250103T221801Z
UID:15389-1738058400-1738090800@mtlacrosse.com
SUMMARY:Pro Shop
DESCRIPTION:Pro Shop is open! Stop by and grab your favorite gear\, along with new arrivals!
URL:https://mtlacrosse.com/event/pro-shop-116/
CATEGORIES:Pro Shop Hours
END:VEVENT
BEGIN:VEVENT
DTSTART;TZID=America/Chicago:20250129T100000
DTEND;TZID=America/Chicago:20250129T190000
DTSTAMP:20260422T172715
CREATED:20250103T221830Z
LAST-MODIFIED:20250103T221830Z
UID:15388-1738144800-1738177200@mtlacrosse.com
SUMMARY:Pro Shop
DESCRIPTION:Pro Shop is open! Stop by and grab your favorite gear\, along with new arrivals!
URL:https://mtlacrosse.com/event/pro-shop-117/
CATEGORIES:Pro Shop Hours
END:VEVENT
BEGIN:VEVENT
DTSTART;TZID=America/Chicago:20250130T100000
DTEND;TZID=America/Chicago:20250130T190000
DTSTAMP:20260422T172715
CREATED:20250103T222048Z
LAST-MODIFIED:20250103T222048Z
UID:15387-1738231200-1738263600@mtlacrosse.com
SUMMARY:Pro Shop
DESCRIPTION:Pro Shop is open! Stop by and grab your favorite gear\, along with new arrivals!
URL:https://mtlacrosse.com/event/pro-shop-118/
CATEGORIES:Pro Shop Hours
END:VEVENT
END:VCALENDAR