BEGIN:VCALENDAR
VERSION:2.0
PRODID:-//Mt. La Crosse Ski and Snowboard - ECPv6.14.2//NONSGML v1.0//EN
CALSCALE:GREGORIAN
METHOD:PUBLISH
X-ORIGINAL-URL:https://mtlacrosse.com
X-WR-CALDESC:Events for Mt. La Crosse Ski and Snowboard
REFRESH-INTERVAL;VALUE=DURATION:PT1H
X-Robots-Tag:noindex
X-PUBLISHED-TTL:PT1H
BEGIN:VTIMEZONE
TZID:America/Chicago
BEGIN:DAYLIGHT
TZOFFSETFROM:-0600
TZOFFSETTO:-0500
TZNAME:CDT
DTSTART:20260308T080000
END:DAYLIGHT
BEGIN:STANDARD
TZOFFSETFROM:-0500
TZOFFSETTO:-0600
TZNAME:CST
DTSTART:20261101T070000
END:STANDARD
END:VTIMEZONE
BEGIN:VEVENT
DTSTART;TZID=America/Chicago:20260311T100000
DTEND;TZID=America/Chicago:20260311T180000
DTSTAMP:20260424T062829
CREATED:20260309T161712Z
LAST-MODIFIED:20260309T161712Z
UID:19719-1773223200-1773252000@mtlacrosse.com
SUMMARY:Pro Shop Open
DESCRIPTION:The Mt. La Crosse Pro Shop is OPEN! \nStop in to grab your favorite gear & check out new arrivals!
URL:https://mtlacrosse.com/event/pro-shop-open-0311/
CATEGORIES:Pro Shop Hours
END:VEVENT
BEGIN:VEVENT
DTSTART;TZID=America/Chicago:20260310T100000
DTEND;TZID=America/Chicago:20260310T180000
DTSTAMP:20260424T062829
CREATED:20260309T161557Z
LAST-MODIFIED:20260309T161557Z
UID:19720-1773136800-1773165600@mtlacrosse.com
SUMMARY:Pro Shop Open
DESCRIPTION:The Mt. La Crosse Pro Shop is OPEN! \nStop in to grab your favorite gear & check out new arrivals!
URL:https://mtlacrosse.com/event/pro-shop-open-0310/
CATEGORIES:Pro Shop Hours
END:VEVENT
BEGIN:VEVENT
DTSTART;TZID=America/Chicago:20260309T100000
DTEND;TZID=America/Chicago:20260309T180000
DTSTAMP:20260424T062829
CREATED:20260309T161509Z
LAST-MODIFIED:20260309T161509Z
UID:19721-1773050400-1773079200@mtlacrosse.com
SUMMARY:Pro Shop Open
DESCRIPTION:The Mt. La Crosse Pro Shop is OPEN! \nStop in to grab your favorite gear & check out new arrivals!
URL:https://mtlacrosse.com/event/pro-shop-open-0309/
CATEGORIES:Pro Shop Hours
END:VEVENT
BEGIN:VEVENT
DTSTART;TZID=America/Chicago:20260308T100000
DTEND;TZID=America/Chicago:20260308T160000
DTSTAMP:20260424T062829
CREATED:20260223T202516Z
LAST-MODIFIED:20260308T180816Z
UID:19523-1772964000-1772985600@mtlacrosse.com
SUMMARY:Pro Shop Open
DESCRIPTION:The Mt. La Crosse Pro Shop is OPEN! \nStop in to grab your favorite gear & check out new arrivals!
URL:https://mtlacrosse.com/event/pro-shop-open-0308/
CATEGORIES:Pro Shop Hours
END:VEVENT
BEGIN:VEVENT
DTSTART;TZID=America/Chicago:20260307T100000
DTEND;TZID=America/Chicago:20260307T170000
DTSTAMP:20260424T062829
CREATED:20260223T202454Z
LAST-MODIFIED:20260307T151226Z
UID:19524-1772877600-1772902800@mtlacrosse.com
SUMMARY:Pro Shop Open
DESCRIPTION:The Mt. La Crosse Pro Shop is OPEN! \nStop in to grab your favorite gear & check out new arrivals!
URL:https://mtlacrosse.com/event/pro-shop-open-0307/
CATEGORIES:Pro Shop Hours
END:VEVENT
BEGIN:VEVENT
DTSTART;TZID=America/Chicago:20260306T100000
DTEND;TZID=America/Chicago:20260306T180000
DTSTAMP:20260424T062829
CREATED:20260223T202437Z
LAST-MODIFIED:20260306T133249Z
UID:19525-1772791200-1772820000@mtlacrosse.com
SUMMARY:Pro Shop Open
DESCRIPTION:The Mt. La Crosse Pro Shop is OPEN! \nStop in to grab your favorite gear & check out new arrivals!
URL:https://mtlacrosse.com/event/pro-shop-open-0306/
CATEGORIES:Pro Shop Hours
END:VEVENT
BEGIN:VEVENT
DTSTART;TZID=America/Chicago:20260305T100000
DTEND;TZID=America/Chicago:20260305T190000
DTSTAMP:20260424T062829
CREATED:20260223T202419Z
LAST-MODIFIED:20260223T202419Z
UID:19526-1772704800-1772737200@mtlacrosse.com
SUMMARY:Pro Shop Open
DESCRIPTION:The Mt. La Crosse Pro Shop is OPEN! \nStop in to grab your favorite gear & check out new arrivals!
URL:https://mtlacrosse.com/event/pro-shop-open-0305/
CATEGORIES:Pro Shop Hours
END:VEVENT
BEGIN:VEVENT
DTSTART;TZID=America/Chicago:20260304T100000
DTEND;TZID=America/Chicago:20260304T190000
DTSTAMP:20260424T062829
CREATED:20260223T202359Z
LAST-MODIFIED:20260223T202359Z
UID:19527-1772618400-1772650800@mtlacrosse.com
SUMMARY:Pro Shop Open
DESCRIPTION:The Mt. La Crosse Pro Shop is OPEN! \nStop in to grab your favorite gear & check out new arrivals!
URL:https://mtlacrosse.com/event/pro-shop-open-0304/
CATEGORIES:Pro Shop Hours
END:VEVENT
BEGIN:VEVENT
DTSTART;TZID=America/Chicago:20260303T100000
DTEND;TZID=America/Chicago:20260303T190000
DTSTAMP:20260424T062829
CREATED:20260223T202340Z
LAST-MODIFIED:20260223T202340Z
UID:19528-1772532000-1772564400@mtlacrosse.com
SUMMARY:Pro Shop Open
DESCRIPTION:The Mt. La Crosse Pro Shop is OPEN! \nStop in to grab your favorite gear & check out new arrivals!
URL:https://mtlacrosse.com/event/pro-shop-open-0303/
CATEGORIES:Pro Shop Hours
END:VEVENT
BEGIN:VEVENT
DTSTART;TZID=America/Chicago:20260302T100000
DTEND;TZID=America/Chicago:20260302T190000
DTSTAMP:20260424T062829
CREATED:20260223T202303Z
LAST-MODIFIED:20260223T202318Z
UID:19529-1772445600-1772478000@mtlacrosse.com
SUMMARY:Pro Shop Open
DESCRIPTION:The Mt. La Crosse Pro Shop is OPEN! \nStop in to grab your favorite gear & check out new arrivals!
URL:https://mtlacrosse.com/event/pro-shop-open-0302/
CATEGORIES:Pro Shop Hours
END:VEVENT
BEGIN:VEVENT
DTSTART;TZID=America/Chicago:20260301T100000
DTEND;TZID=America/Chicago:20260301T180000
DTSTAMP:20260424T062829
CREATED:20260108T174447Z
LAST-MODIFIED:20260108T174447Z
UID:19151-1772359200-1772388000@mtlacrosse.com
SUMMARY:Pro Shop Open
DESCRIPTION:The Mt. La Crosse Pro Shop is OPEN! \nStop in to grab your favorite gear & check out new arrivals!
URL:https://mtlacrosse.com/event/pro-shop-open-3126/
CATEGORIES:Pro Shop Hours
END:VEVENT
BEGIN:VEVENT
DTSTART;TZID=America/Chicago:20260228T100000
DTEND;TZID=America/Chicago:20260228T190000
DTSTAMP:20260424T062829
CREATED:20260108T174425Z
LAST-MODIFIED:20260108T174425Z
UID:19150-1772272800-1772305200@mtlacrosse.com
SUMMARY:Pro Shop Open
DESCRIPTION:The Mt. La Crosse Pro Shop is OPEN! \nStop in to grab your favorite gear & check out new arrivals!
URL:https://mtlacrosse.com/event/pro-shop-open-22826/
CATEGORIES:Pro Shop Hours
END:VEVENT
BEGIN:VEVENT
DTSTART;TZID=America/Chicago:20260227T100000
DTEND;TZID=America/Chicago:20260227T190000
DTSTAMP:20260424T062829
CREATED:20260108T174405Z
LAST-MODIFIED:20260108T174405Z
UID:19149-1772186400-1772218800@mtlacrosse.com
SUMMARY:Pro Shop Open
DESCRIPTION:The Mt. La Crosse Pro Shop is OPEN! \nStop in to grab your favorite gear & check out new arrivals!
URL:https://mtlacrosse.com/event/pro-shop-open-22726/
CATEGORIES:Pro Shop Hours
END:VEVENT
BEGIN:VEVENT
DTSTART;TZID=America/Chicago:20260226T100000
DTEND;TZID=America/Chicago:20260226T190000
DTSTAMP:20260424T062829
CREATED:20260108T174345Z
LAST-MODIFIED:20260108T174345Z
UID:19148-1772100000-1772132400@mtlacrosse.com
SUMMARY:Pro Shop Open
DESCRIPTION:The Mt. La Crosse Pro Shop is OPEN! \nStop in to grab your favorite gear & check out new arrivals!
URL:https://mtlacrosse.com/event/pro-shop-open-22626/
CATEGORIES:Pro Shop Hours
END:VEVENT
BEGIN:VEVENT
DTSTART;TZID=America/Chicago:20260225T100000
DTEND;TZID=America/Chicago:20260225T190000
DTSTAMP:20260424T062829
CREATED:20260108T174323Z
LAST-MODIFIED:20260108T174323Z
UID:19147-1772013600-1772046000@mtlacrosse.com
SUMMARY:Pro Shop Open
DESCRIPTION:The Mt. La Crosse Pro Shop is OPEN! \nStop in to grab your favorite gear & check out new arrivals!
URL:https://mtlacrosse.com/event/pro-shop-open-22526/
CATEGORIES:Pro Shop Hours
END:VEVENT
BEGIN:VEVENT
DTSTART;TZID=America/Chicago:20260224T100000
DTEND;TZID=America/Chicago:20260224T190000
DTSTAMP:20260424T062829
CREATED:20260108T174302Z
LAST-MODIFIED:20260108T174302Z
UID:19146-1771927200-1771959600@mtlacrosse.com
SUMMARY:Pro Shop Open
DESCRIPTION:The Mt. La Crosse Pro Shop is OPEN! \nStop in to grab your favorite gear & check out new arrivals!
URL:https://mtlacrosse.com/event/pro-shop-open-22426/
CATEGORIES:Pro Shop Hours
END:VEVENT
BEGIN:VEVENT
DTSTART;TZID=America/Chicago:20260223T100000
DTEND;TZID=America/Chicago:20260223T190000
DTSTAMP:20260424T062829
CREATED:20260108T174243Z
LAST-MODIFIED:20260108T174243Z
UID:19145-1771840800-1771873200@mtlacrosse.com
SUMMARY:Pro Shop Open
DESCRIPTION:The Mt. La Crosse Pro Shop is OPEN! \nStop in to grab your favorite gear & check out new arrivals!
URL:https://mtlacrosse.com/event/pro-shop-open-22326/
CATEGORIES:Pro Shop Hours
END:VEVENT
BEGIN:VEVENT
DTSTART;TZID=America/Chicago:20260222T100000
DTEND;TZID=America/Chicago:20260222T180000
DTSTAMP:20260424T062829
CREATED:20260108T174219Z
LAST-MODIFIED:20260108T174219Z
UID:19144-1771754400-1771783200@mtlacrosse.com
SUMMARY:Pro Shop Open
DESCRIPTION:The Mt. La Crosse Pro Shop is OPEN! \nStop in to grab your favorite gear & check out new arrivals!
URL:https://mtlacrosse.com/event/pro-shop-open-22226/
CATEGORIES:Pro Shop Hours
END:VEVENT
BEGIN:VEVENT
DTSTART;TZID=America/Chicago:20260221T100000
DTEND;TZID=America/Chicago:20260221T190000
DTSTAMP:20260424T062829
CREATED:20260108T174159Z
LAST-MODIFIED:20260108T174159Z
UID:19143-1771668000-1771700400@mtlacrosse.com
SUMMARY:Pro Shop Open
DESCRIPTION:The Mt. La Crosse Pro Shop is OPEN! \nStop in to grab your favorite gear & check out new arrivals!
URL:https://mtlacrosse.com/event/pro-shop-open-22126/
CATEGORIES:Pro Shop Hours
END:VEVENT
BEGIN:VEVENT
DTSTART;TZID=America/Chicago:20260220T100000
DTEND;TZID=America/Chicago:20260220T190000
DTSTAMP:20260424T062829
CREATED:20260108T174140Z
LAST-MODIFIED:20260108T174140Z
UID:19142-1771581600-1771614000@mtlacrosse.com
SUMMARY:Pro Shop Open
DESCRIPTION:The Mt. La Crosse Pro Shop is OPEN! \nStop in to grab your favorite gear & check out new arrivals!
URL:https://mtlacrosse.com/event/pro-shop-open-22026/
CATEGORIES:Pro Shop Hours
END:VEVENT
BEGIN:VEVENT
DTSTART;TZID=America/Chicago:20260219T100000
DTEND;TZID=America/Chicago:20260219T190000
DTSTAMP:20260424T062829
CREATED:20260108T174107Z
LAST-MODIFIED:20260108T174107Z
UID:19141-1771495200-1771527600@mtlacrosse.com
SUMMARY:Pro Shop Open
DESCRIPTION:The Mt. La Crosse Pro Shop is OPEN! \nStop in to grab your favorite gear & check out new arrivals!
URL:https://mtlacrosse.com/event/pro-shop-open-21926/
CATEGORIES:Pro Shop Hours
END:VEVENT
BEGIN:VEVENT
DTSTART;TZID=America/Chicago:20260218T100000
DTEND;TZID=America/Chicago:20260218T160000
DTSTAMP:20260424T062829
CREATED:20260108T174045Z
LAST-MODIFIED:20260218T141755Z
UID:19140-1771408800-1771430400@mtlacrosse.com
SUMMARY:Pro Shop Open
DESCRIPTION:The Mt. La Crosse Pro Shop is OPEN! \nStop in to grab your favorite gear & check out new arrivals!
URL:https://mtlacrosse.com/event/pro-shop-open-21826/
CATEGORIES:Pro Shop Hours
END:VEVENT
BEGIN:VEVENT
DTSTART;TZID=America/Chicago:20260217T100000
DTEND;TZID=America/Chicago:20260217T190000
DTSTAMP:20260424T062829
CREATED:20260108T174018Z
LAST-MODIFIED:20260108T174018Z
UID:19139-1771322400-1771354800@mtlacrosse.com
SUMMARY:Pro Shop Open
DESCRIPTION:The Mt. La Crosse Pro Shop is OPEN! \nStop in to grab your favorite gear & check out new arrivals!
URL:https://mtlacrosse.com/event/pro-shop-open-21726/
CATEGORIES:Pro Shop Hours
END:VEVENT
BEGIN:VEVENT
DTSTART;TZID=America/Chicago:20260216T100000
DTEND;TZID=America/Chicago:20260216T190000
DTSTAMP:20260424T062829
CREATED:20260108T173957Z
LAST-MODIFIED:20260108T173957Z
UID:19138-1771236000-1771268400@mtlacrosse.com
SUMMARY:Pro Shop Open
DESCRIPTION:The Mt. La Crosse Pro Shop is OPEN! \nStop in to grab your favorite gear & check out new arrivals!
URL:https://mtlacrosse.com/event/pro-shop-open-21626/
CATEGORIES:Pro Shop Hours
END:VEVENT
BEGIN:VEVENT
DTSTART;TZID=America/Chicago:20260215T100000
DTEND;TZID=America/Chicago:20260215T180000
DTSTAMP:20260424T062829
CREATED:20260108T173937Z
LAST-MODIFIED:20260108T173937Z
UID:19137-1771149600-1771178400@mtlacrosse.com
SUMMARY:Pro Shop Open
DESCRIPTION:The Mt. La Crosse Pro Shop is OPEN! \nStop in to grab your favorite gear & check out new arrivals!
URL:https://mtlacrosse.com/event/pro-shop-open-21526/
CATEGORIES:Pro Shop Hours
END:VEVENT
BEGIN:VEVENT
DTSTART;TZID=America/Chicago:20260214T100000
DTEND;TZID=America/Chicago:20260214T190000
DTSTAMP:20260424T062829
CREATED:20260108T173912Z
LAST-MODIFIED:20260108T173912Z
UID:19136-1771063200-1771095600@mtlacrosse.com
SUMMARY:Pro Shop Open
DESCRIPTION:The Mt. La Crosse Pro Shop is OPEN! \nStop in to grab your favorite gear & check out new arrivals!
URL:https://mtlacrosse.com/event/pro-shop-open-21426/
CATEGORIES:Pro Shop Hours
END:VEVENT
BEGIN:VEVENT
DTSTART;TZID=America/Chicago:20260213T100000
DTEND;TZID=America/Chicago:20260213T190000
DTSTAMP:20260424T062829
CREATED:20260108T173847Z
LAST-MODIFIED:20260108T173847Z
UID:19135-1770976800-1771009200@mtlacrosse.com
SUMMARY:Pro Shop Open
DESCRIPTION:The Mt. La Crosse Pro Shop is OPEN! \nStop in to grab your favorite gear & check out new arrivals!
URL:https://mtlacrosse.com/event/pro-shop-open-21326/
CATEGORIES:Pro Shop Hours
END:VEVENT
BEGIN:VEVENT
DTSTART;TZID=America/Chicago:20260212T100000
DTEND;TZID=America/Chicago:20260212T190000
DTSTAMP:20260424T062829
CREATED:20260108T172723Z
LAST-MODIFIED:20260108T172723Z
UID:19127-1770890400-1770922800@mtlacrosse.com
SUMMARY:Pro Shop Open
DESCRIPTION:The Mt. La Crosse Pro Shop is OPEN! \nStop in to grab your favorite gear & check out new arrivals!
URL:https://mtlacrosse.com/event/pro-shop-open-21226/
CATEGORIES:Pro Shop Hours
END:VEVENT
BEGIN:VEVENT
DTSTART;TZID=America/Chicago:20260211T100000
DTEND;TZID=America/Chicago:20260211T190000
DTSTAMP:20260424T062829
CREATED:20260108T172658Z
LAST-MODIFIED:20260108T172658Z
UID:19126-1770804000-1770836400@mtlacrosse.com
SUMMARY:Pro Shop Open
DESCRIPTION:The Mt. La Crosse Pro Shop is OPEN! \nStop in to grab your favorite gear & check out new arrivals!
URL:https://mtlacrosse.com/event/pro-shop-open-21126/
CATEGORIES:Pro Shop Hours
END:VEVENT
BEGIN:VEVENT
DTSTART;TZID=America/Chicago:20260210T100000
DTEND;TZID=America/Chicago:20260210T190000
DTSTAMP:20260424T062829
CREATED:20260108T172635Z
LAST-MODIFIED:20260108T172635Z
UID:19124-1770717600-1770750000@mtlacrosse.com
SUMMARY:Pro Shop Open
DESCRIPTION:The Mt. La Crosse Pro Shop is OPEN! \nStop in to grab your favorite gear & check out new arrivals!
URL:https://mtlacrosse.com/event/pro-shop-open-21026/
CATEGORIES:Pro Shop Hours
END:VEVENT
END:VCALENDAR