BEGIN:VCALENDAR
VERSION:2.0
PRODID:-//Mt. La Crosse Ski and Snowboard - ECPv6.14.2//NONSGML v1.0//EN
CALSCALE:GREGORIAN
METHOD:PUBLISH
X-WR-CALNAME:Mt. La Crosse Ski and Snowboard
X-ORIGINAL-URL:https://mtlacrosse.com
X-WR-CALDESC:Events for Mt. La Crosse Ski and Snowboard
REFRESH-INTERVAL;VALUE=DURATION:PT1H
X-Robots-Tag:noindex
X-PUBLISHED-TTL:PT1H
BEGIN:VTIMEZONE
TZID:America/Chicago
BEGIN:DAYLIGHT
TZOFFSETFROM:-0600
TZOFFSETTO:-0500
TZNAME:CDT
DTSTART:20260308T080000
END:DAYLIGHT
BEGIN:STANDARD
TZOFFSETFROM:-0500
TZOFFSETTO:-0600
TZNAME:CST
DTSTART:20261101T070000
END:STANDARD
END:VTIMEZONE
BEGIN:VEVENT
DTSTART;TZID=America/Chicago:20260215T100000
DTEND;TZID=America/Chicago:20260215T180000
DTSTAMP:20260424T104547
CREATED:20260108T173937Z
LAST-MODIFIED:20260108T173937Z
UID:19137-1771149600-1771178400@mtlacrosse.com
SUMMARY:Pro Shop Open
DESCRIPTION:The Mt. La Crosse Pro Shop is OPEN! \nStop in to grab your favorite gear & check out new arrivals!
URL:https://mtlacrosse.com/event/pro-shop-open-21526/
CATEGORIES:Pro Shop Hours
END:VEVENT
BEGIN:VEVENT
DTSTART;TZID=America/Chicago:20260214T100000
DTEND;TZID=America/Chicago:20260214T190000
DTSTAMP:20260424T104547
CREATED:20260108T173912Z
LAST-MODIFIED:20260108T173912Z
UID:19136-1771063200-1771095600@mtlacrosse.com
SUMMARY:Pro Shop Open
DESCRIPTION:The Mt. La Crosse Pro Shop is OPEN! \nStop in to grab your favorite gear & check out new arrivals!
URL:https://mtlacrosse.com/event/pro-shop-open-21426/
CATEGORIES:Pro Shop Hours
END:VEVENT
BEGIN:VEVENT
DTSTART;TZID=America/Chicago:20260213T100000
DTEND;TZID=America/Chicago:20260213T190000
DTSTAMP:20260424T104547
CREATED:20260108T173847Z
LAST-MODIFIED:20260108T173847Z
UID:19135-1770976800-1771009200@mtlacrosse.com
SUMMARY:Pro Shop Open
DESCRIPTION:The Mt. La Crosse Pro Shop is OPEN! \nStop in to grab your favorite gear & check out new arrivals!
URL:https://mtlacrosse.com/event/pro-shop-open-21326/
CATEGORIES:Pro Shop Hours
END:VEVENT
BEGIN:VEVENT
DTSTART;TZID=America/Chicago:20260212T100000
DTEND;TZID=America/Chicago:20260212T190000
DTSTAMP:20260424T104547
CREATED:20260108T172723Z
LAST-MODIFIED:20260108T172723Z
UID:19127-1770890400-1770922800@mtlacrosse.com
SUMMARY:Pro Shop Open
DESCRIPTION:The Mt. La Crosse Pro Shop is OPEN! \nStop in to grab your favorite gear & check out new arrivals!
URL:https://mtlacrosse.com/event/pro-shop-open-21226/
CATEGORIES:Pro Shop Hours
END:VEVENT
BEGIN:VEVENT
DTSTART;TZID=America/Chicago:20260211T100000
DTEND;TZID=America/Chicago:20260211T190000
DTSTAMP:20260424T104547
CREATED:20260108T172658Z
LAST-MODIFIED:20260108T172658Z
UID:19126-1770804000-1770836400@mtlacrosse.com
SUMMARY:Pro Shop Open
DESCRIPTION:The Mt. La Crosse Pro Shop is OPEN! \nStop in to grab your favorite gear & check out new arrivals!
URL:https://mtlacrosse.com/event/pro-shop-open-21126/
CATEGORIES:Pro Shop Hours
END:VEVENT
BEGIN:VEVENT
DTSTART;TZID=America/Chicago:20260210T100000
DTEND;TZID=America/Chicago:20260210T190000
DTSTAMP:20260424T104547
CREATED:20260108T172635Z
LAST-MODIFIED:20260108T172635Z
UID:19124-1770717600-1770750000@mtlacrosse.com
SUMMARY:Pro Shop Open
DESCRIPTION:The Mt. La Crosse Pro Shop is OPEN! \nStop in to grab your favorite gear & check out new arrivals!
URL:https://mtlacrosse.com/event/pro-shop-open-21026/
CATEGORIES:Pro Shop Hours
END:VEVENT
BEGIN:VEVENT
DTSTART;TZID=America/Chicago:20260209T100000
DTEND;TZID=America/Chicago:20260209T190000
DTSTAMP:20260424T104547
CREATED:20260108T172615Z
LAST-MODIFIED:20260108T172615Z
UID:19125-1770631200-1770663600@mtlacrosse.com
SUMMARY:Pro Shop Open
DESCRIPTION:The Mt. La Crosse Pro Shop is OPEN! \nStop in to grab your favorite gear & check out new arrivals!
URL:https://mtlacrosse.com/event/pro-shop-open-2926/
CATEGORIES:Pro Shop Hours
END:VEVENT
BEGIN:VEVENT
DTSTART;TZID=America/Chicago:20260208T100000
DTEND;TZID=America/Chicago:20260208T180000
DTSTAMP:20260424T104547
CREATED:20260108T172548Z
LAST-MODIFIED:20260108T172548Z
UID:19130-1770544800-1770573600@mtlacrosse.com
SUMMARY:Pro Shop Open
DESCRIPTION:The Mt. La Crosse Pro Shop is OPEN! \nStop in to grab your favorite gear & check out new arrivals!
URL:https://mtlacrosse.com/event/pro-shop-open-2826/
CATEGORIES:Pro Shop Hours
END:VEVENT
BEGIN:VEVENT
DTSTART;TZID=America/Chicago:20260207T100000
DTEND;TZID=America/Chicago:20260207T190000
DTSTAMP:20260424T104547
CREATED:20260108T172525Z
LAST-MODIFIED:20260108T172525Z
UID:19129-1770458400-1770490800@mtlacrosse.com
SUMMARY:Pro Shop Open
DESCRIPTION:The Mt. La Crosse Pro Shop is OPEN! \nStop in to grab your favorite gear & check out new arrivals!
URL:https://mtlacrosse.com/event/pro-shop-open-2726/
CATEGORIES:Pro Shop Hours
END:VEVENT
BEGIN:VEVENT
DTSTART;TZID=America/Chicago:20260206T100000
DTEND;TZID=America/Chicago:20260206T190000
DTSTAMP:20260424T104547
CREATED:20260108T172502Z
LAST-MODIFIED:20260108T172502Z
UID:19128-1770372000-1770404400@mtlacrosse.com
SUMMARY:Pro Shop Open
DESCRIPTION:The Mt. La Crosse Pro Shop is OPEN! \nStop in to grab your favorite gear & check out new arrivals!
URL:https://mtlacrosse.com/event/pro-shop-open-2626/
CATEGORIES:Pro Shop Hours
END:VEVENT
BEGIN:VEVENT
DTSTART;TZID=America/Chicago:20260205T100000
DTEND;TZID=America/Chicago:20260205T190000
DTSTAMP:20260424T104547
CREATED:20260108T172440Z
LAST-MODIFIED:20260108T172440Z
UID:19134-1770285600-1770318000@mtlacrosse.com
SUMMARY:Pro Shop Open
DESCRIPTION:The Mt. La Crosse Pro Shop is OPEN! \nStop in to grab your favorite gear & check out new arrivals!
URL:https://mtlacrosse.com/event/pro-shop-open-2526/
CATEGORIES:Pro Shop Hours
END:VEVENT
BEGIN:VEVENT
DTSTART;TZID=America/Chicago:20260204T100000
DTEND;TZID=America/Chicago:20260204T190000
DTSTAMP:20260424T104547
CREATED:20260108T172417Z
LAST-MODIFIED:20260108T172417Z
UID:19133-1770199200-1770231600@mtlacrosse.com
SUMMARY:Pro Shop Open
DESCRIPTION:The Mt. La Crosse Pro Shop is OPEN! \nStop in to grab your favorite gear & check out new arrivals!
URL:https://mtlacrosse.com/event/pro-shop-open-2426/
CATEGORIES:Pro Shop Hours
END:VEVENT
BEGIN:VEVENT
DTSTART;TZID=America/Chicago:20260203T100000
DTEND;TZID=America/Chicago:20260203T190000
DTSTAMP:20260424T104547
CREATED:20260108T172342Z
LAST-MODIFIED:20260108T172342Z
UID:19131-1770112800-1770145200@mtlacrosse.com
SUMMARY:Pro Shop Open
DESCRIPTION:The Mt. La Crosse Pro Shop is OPEN! \nStop in to grab your favorite gear & check out new arrivals!
URL:https://mtlacrosse.com/event/pro-shop-open-2326/
CATEGORIES:Pro Shop Hours
END:VEVENT
BEGIN:VEVENT
DTSTART;TZID=America/Chicago:20260202T100000
DTEND;TZID=America/Chicago:20260202T190000
DTSTAMP:20260424T104547
CREATED:20260108T172322Z
LAST-MODIFIED:20260108T172322Z
UID:19132-1770026400-1770058800@mtlacrosse.com
SUMMARY:Pro Shop Open
DESCRIPTION:The Mt. La Crosse Pro Shop is OPEN! \nStop in to grab your favorite gear & check out new arrivals!
URL:https://mtlacrosse.com/event/pro-shop-open-2226/
CATEGORIES:Pro Shop Hours
END:VEVENT
BEGIN:VEVENT
DTSTART;TZID=America/Chicago:20260201T100000
DTEND;TZID=America/Chicago:20260201T180000
DTSTAMP:20260424T104547
CREATED:20260108T163804Z
LAST-MODIFIED:20260108T170301Z
UID:19110-1769940000-1769968800@mtlacrosse.com
SUMMARY:Pro Shop Open
DESCRIPTION:The Mt. La Crosse Pro Shop is OPEN! \nStop in to grab your favorite gear & check out new arrivals!
URL:https://mtlacrosse.com/event/pro-shop-open-2126/
CATEGORIES:Pro Shop Hours
END:VEVENT
BEGIN:VEVENT
DTSTART;TZID=America/Chicago:20260131T100000
DTEND;TZID=America/Chicago:20260131T190000
DTSTAMP:20260424T104547
CREATED:20260108T013219Z
LAST-MODIFIED:20260108T170254Z
UID:18976-1769853600-1769886000@mtlacrosse.com
SUMMARY:Pro Shop Open
DESCRIPTION:The Mt. La Crosse Pro Shop is OPEN! \nStop in to grab your favorite gear & check out new arrivals!
URL:https://mtlacrosse.com/event/pro-shop-open-13126/
CATEGORIES:Pro Shop Hours
END:VEVENT
BEGIN:VEVENT
DTSTART;TZID=America/Chicago:20260130T100000
DTEND;TZID=America/Chicago:20260130T190000
DTSTAMP:20260424T104547
CREATED:20260108T013159Z
LAST-MODIFIED:20260108T170245Z
UID:18977-1769767200-1769799600@mtlacrosse.com
SUMMARY:Pro Shop Open
DESCRIPTION:The Mt. La Crosse Pro Shop is OPEN! \nStop in to grab your favorite gear & check out new arrivals!
URL:https://mtlacrosse.com/event/pro-shop-open-13026/
CATEGORIES:Pro Shop Hours
END:VEVENT
BEGIN:VEVENT
DTSTART;TZID=America/Chicago:20260129T100000
DTEND;TZID=America/Chicago:20260129T190000
DTSTAMP:20260424T104547
CREATED:20260108T013137Z
LAST-MODIFIED:20260108T170238Z
UID:18978-1769680800-1769713200@mtlacrosse.com
SUMMARY:Pro Shop Open
DESCRIPTION:The Mt. La Crosse Pro Shop is OPEN! \nStop in to grab your favorite gear & check out new arrivals!
URL:https://mtlacrosse.com/event/pro-shop-open-12926/
CATEGORIES:Pro Shop Hours
END:VEVENT
BEGIN:VEVENT
DTSTART;TZID=America/Chicago:20260128T100000
DTEND;TZID=America/Chicago:20260128T190000
DTSTAMP:20260424T104547
CREATED:20260108T013126Z
LAST-MODIFIED:20260108T170231Z
UID:18979-1769594400-1769626800@mtlacrosse.com
SUMMARY:Pro Shop Open
DESCRIPTION:The Mt. La Crosse Pro Shop is OPEN! \nStop in to grab your favorite gear & check out new arrivals!
URL:https://mtlacrosse.com/event/pro-shop-open-12826/
CATEGORIES:Pro Shop Hours
END:VEVENT
BEGIN:VEVENT
DTSTART;TZID=America/Chicago:20260127T100000
DTEND;TZID=America/Chicago:20260127T190000
DTSTAMP:20260424T104547
CREATED:20260108T013106Z
LAST-MODIFIED:20260108T170225Z
UID:18980-1769508000-1769540400@mtlacrosse.com
SUMMARY:Pro Shop Open
DESCRIPTION:The Mt. La Crosse Pro Shop is OPEN! \nStop in to grab your favorite gear & check out new arrivals!
URL:https://mtlacrosse.com/event/pro-shop-open-12726/
CATEGORIES:Pro Shop Hours
END:VEVENT
BEGIN:VEVENT
DTSTART;TZID=America/Chicago:20260126T100000
DTEND;TZID=America/Chicago:20260126T190000
DTSTAMP:20260424T104547
CREATED:20260108T013056Z
LAST-MODIFIED:20260108T170220Z
UID:18981-1769421600-1769454000@mtlacrosse.com
SUMMARY:Pro Shop Open
DESCRIPTION:The Mt. La Crosse Pro Shop is OPEN! \nStop in to grab your favorite gear & check out new arrivals!
URL:https://mtlacrosse.com/event/pro-shop-open-12626/
CATEGORIES:Pro Shop Hours
END:VEVENT
BEGIN:VEVENT
DTSTART;TZID=America/Chicago:20260125T100000
DTEND;TZID=America/Chicago:20260125T180000
DTSTAMP:20260424T104547
CREATED:20260108T011710Z
LAST-MODIFIED:20260108T170215Z
UID:18967-1769335200-1769364000@mtlacrosse.com
SUMMARY:Pro Shop Open
DESCRIPTION:The Mt. La Crosse Pro Shop is OPEN! \nStop in to grab your favorite gear & check out new arrivals!
URL:https://mtlacrosse.com/event/pro-shop-open-12526/
CATEGORIES:Pro Shop Hours
END:VEVENT
BEGIN:VEVENT
DTSTART;TZID=America/Chicago:20260124T100000
DTEND;TZID=America/Chicago:20260124T170000
DTSTAMP:20260424T104547
CREATED:20260108T013045Z
LAST-MODIFIED:20260124T184049Z
UID:18982-1769248800-1769274000@mtlacrosse.com
SUMMARY:Pro Shop Open
DESCRIPTION:The Mt. La Crosse Pro Shop is OPEN! \nStop in to grab your favorite gear & check out new arrivals!
URL:https://mtlacrosse.com/event/pro-shop-open-12426/
CATEGORIES:Pro Shop Hours
END:VEVENT
BEGIN:VEVENT
DTSTART;TZID=America/Chicago:20260123T100000
DTEND;TZID=America/Chicago:20260123T180000
DTSTAMP:20260424T104547
CREATED:20260108T013033Z
LAST-MODIFIED:20260123T162356Z
UID:18983-1769162400-1769191200@mtlacrosse.com
SUMMARY:Pro Shop Open
DESCRIPTION:The Mt. La Crosse Pro Shop is OPEN! \nStop in to grab your favorite gear & check out new arrivals!
URL:https://mtlacrosse.com/event/pro-shop-open-12326/
CATEGORIES:Pro Shop Hours
END:VEVENT
BEGIN:VEVENT
DTSTART;TZID=America/Chicago:20260122T100000
DTEND;TZID=America/Chicago:20260122T190000
DTSTAMP:20260424T104547
CREATED:20260108T013014Z
LAST-MODIFIED:20260108T170156Z
UID:18984-1769076000-1769108400@mtlacrosse.com
SUMMARY:Pro Shop Open
DESCRIPTION:The Mt. La Crosse Pro Shop is OPEN! \nStop in to grab your favorite gear & check out new arrivals!
URL:https://mtlacrosse.com/event/pro-shop-open-12226/
CATEGORIES:Pro Shop Hours
END:VEVENT
BEGIN:VEVENT
DTSTART;TZID=America/Chicago:20260121T100000
DTEND;TZID=America/Chicago:20260121T190000
DTSTAMP:20260424T104547
CREATED:20260108T013001Z
LAST-MODIFIED:20260108T170150Z
UID:18985-1768989600-1769022000@mtlacrosse.com
SUMMARY:Pro Shop Open
DESCRIPTION:The Mt. La Crosse Pro Shop is OPEN! \nStop in to grab your favorite gear & check out new arrivals!
URL:https://mtlacrosse.com/event/pro-shop-open-12126/
CATEGORIES:Pro Shop Hours
END:VEVENT
BEGIN:VEVENT
DTSTART;TZID=America/Chicago:20260120T100000
DTEND;TZID=America/Chicago:20260120T190000
DTSTAMP:20260424T104547
CREATED:20260108T012942Z
LAST-MODIFIED:20260108T170142Z
UID:18986-1768903200-1768935600@mtlacrosse.com
SUMMARY:Pro Shop Open
DESCRIPTION:The Mt. La Crosse Pro Shop is OPEN! \nStop in to grab your favorite gear & check out new arrivals!
URL:https://mtlacrosse.com/event/pro-shop-open-12026/
CATEGORIES:Pro Shop Hours
END:VEVENT
BEGIN:VEVENT
DTSTART;TZID=America/Chicago:20260119T100000
DTEND;TZID=America/Chicago:20260119T190000
DTSTAMP:20260424T104547
CREATED:20260108T012931Z
LAST-MODIFIED:20260108T170136Z
UID:18987-1768816800-1768849200@mtlacrosse.com
SUMMARY:Pro Shop Open
DESCRIPTION:The Mt. La Crosse Pro Shop is OPEN! \nStop in to grab your favorite gear & check out new arrivals!
URL:https://mtlacrosse.com/event/pro-shop-open-11926/
CATEGORIES:Pro Shop Hours
END:VEVENT
BEGIN:VEVENT
DTSTART;TZID=America/Chicago:20260118T100000
DTEND;TZID=America/Chicago:20260118T180000
DTSTAMP:20260424T104547
CREATED:20260108T011654Z
LAST-MODIFIED:20260108T170130Z
UID:18965-1768730400-1768759200@mtlacrosse.com
SUMMARY:Pro Shop Open
DESCRIPTION:The Mt. La Crosse Pro Shop is OPEN! \nStop in to grab your favorite gear & check out new arrivals!
URL:https://mtlacrosse.com/event/pro-shop-open-11826/
CATEGORIES:Pro Shop Hours
END:VEVENT
BEGIN:VEVENT
DTSTART;TZID=America/Chicago:20260117T100000
DTEND;TZID=America/Chicago:20260117T190000
DTSTAMP:20260424T104547
CREATED:20260108T012854Z
LAST-MODIFIED:20260108T170116Z
UID:18990-1768644000-1768676400@mtlacrosse.com
SUMMARY:Pro Shop Open
DESCRIPTION:The Mt. La Crosse Pro Shop is OPEN! \nStop in to grab your favorite gear & check out new arrivals!
URL:https://mtlacrosse.com/event/pro-shop-open-11726/
CATEGORIES:Pro Shop Hours
END:VEVENT
END:VCALENDAR