BEGIN:VCALENDAR
VERSION:2.0
PRODID:-//Mt. La Crosse Ski and Snowboard - ECPv6.14.2//NONSGML v1.0//EN
CALSCALE:GREGORIAN
METHOD:PUBLISH
X-ORIGINAL-URL:https://mtlacrosse.com
X-WR-CALDESC:Events for Mt. La Crosse Ski and Snowboard
REFRESH-INTERVAL;VALUE=DURATION:PT1H
X-Robots-Tag:noindex
X-PUBLISHED-TTL:PT1H
BEGIN:VTIMEZONE
TZID:America/Chicago
BEGIN:DAYLIGHT
TZOFFSETFROM:-0600
TZOFFSETTO:-0500
TZNAME:CDT
DTSTART:20250309T080000
END:DAYLIGHT
BEGIN:STANDARD
TZOFFSETFROM:-0500
TZOFFSETTO:-0600
TZNAME:CST
DTSTART:20251102T070000
END:STANDARD
END:VTIMEZONE
BEGIN:VEVENT
DTSTART;TZID=America/Chicago:20250201T150000
DTEND;TZID=America/Chicago:20250201T200000
DTSTAMP:20260425T090105
CREATED:20241208T183037Z
LAST-MODIFIED:20241208T183037Z
UID:14585-1738422000-1738440000@mtlacrosse.com
SUMMARY:WXOW Family Night
DESCRIPTION:Saturday Night – WXOW Family Night from 3 p.m. – 8 p.m. \nVisit the link below to purchase your tickets! \nhttps://mtlacrosse.com/specials/
URL:https://mtlacrosse.com/event/wxow-family-night-16/
CATEGORIES:Special Night Discounts
END:VEVENT
BEGIN:VEVENT
DTSTART;TZID=America/Chicago:20250203T150000
DTEND;TZID=America/Chicago:20250203T200000
DTSTAMP:20260425T090105
CREATED:20241208T203934Z
LAST-MODIFIED:20241208T203934Z
UID:14635-1738594800-1738612800@mtlacrosse.com
SUMMARY:Student Night
DESCRIPTION:Monday Night – Student Night from 3 p.m. – 8 p.m. \nVisit the link below to purchase your tickets! \nhttps://mtlacrosse.com/specials/
URL:https://mtlacrosse.com/event/student-night-15/
CATEGORIES:Special Night Discounts
END:VEVENT
BEGIN:VEVENT
DTSTART;TZID=America/Chicago:20250206T150000
DTEND;TZID=America/Chicago:20250206T200000
DTSTAMP:20260425T090105
CREATED:20241208T210226Z
LAST-MODIFIED:20241208T210226Z
UID:14676-1738854000-1738872000@mtlacrosse.com
SUMMARY:Thrifty Thursday
DESCRIPTION:Thursday Night – Thrifty Thursday from 3 p.m. – 8 p.m. \nVisit the link below to purchase your tickets! \nhttps://mtlacrosse.com/specials/
URL:https://mtlacrosse.com/event/thrifty-thursday-14/
CATEGORIES:Special Night Discounts
END:VEVENT
BEGIN:VEVENT
DTSTART;TZID=America/Chicago:20250208T150000
DTEND;TZID=America/Chicago:20250208T200000
DTSTAMP:20260425T090105
CREATED:20241208T183110Z
LAST-MODIFIED:20241208T183110Z
UID:14584-1739026800-1739044800@mtlacrosse.com
SUMMARY:WXOW Family Night
DESCRIPTION:Saturday Night – WXOW Family Night from 3 p.m. – 8 p.m. \nVisit the link below to purchase your tickets! \nhttps://mtlacrosse.com/specials/
URL:https://mtlacrosse.com/event/wxow-family-night-17/
CATEGORIES:Special Night Discounts
END:VEVENT
BEGIN:VEVENT
DTSTART;TZID=America/Chicago:20250210T150000
DTEND;TZID=America/Chicago:20250210T200000
DTSTAMP:20260425T090105
CREATED:20241208T204014Z
LAST-MODIFIED:20241208T204014Z
UID:14634-1739199600-1739217600@mtlacrosse.com
SUMMARY:Student Night
DESCRIPTION:Monday Night – Student Night from 3 p.m. – 8 p.m. \nVisit the link below to purchase your tickets! \nhttps://mtlacrosse.com/specials/
URL:https://mtlacrosse.com/event/student-night-16/
CATEGORIES:Special Night Discounts
END:VEVENT
BEGIN:VEVENT
DTSTART;TZID=America/Chicago:20250213T150000
DTEND;TZID=America/Chicago:20250213T200000
DTSTAMP:20260425T090105
CREATED:20241208T210251Z
LAST-MODIFIED:20241208T210251Z
UID:14675-1739458800-1739476800@mtlacrosse.com
SUMMARY:Thrifty Thursday
DESCRIPTION:Thursday Night – Thrifty Thursday from 3 p.m. – 8 p.m. \nVisit the link below to purchase your tickets! \nhttps://mtlacrosse.com/specials/
URL:https://mtlacrosse.com/event/thrifty-thursday-15/
CATEGORIES:Special Night Discounts
END:VEVENT
BEGIN:VEVENT
DTSTART;TZID=America/Chicago:20250215T150000
DTEND;TZID=America/Chicago:20250215T200000
DTSTAMP:20260425T090105
CREATED:20241208T183148Z
LAST-MODIFIED:20241208T183148Z
UID:14583-1739631600-1739649600@mtlacrosse.com
SUMMARY:WXOW Family Night
DESCRIPTION:Saturday Night – WXOW Family Night from 3 p.m. – 8 p.m. \nVisit the link below to purchase your tickets! \nhttps://mtlacrosse.com/specials/
URL:https://mtlacrosse.com/event/wxow-family-night-18/
CATEGORIES:Special Night Discounts
END:VEVENT
BEGIN:VEVENT
DTSTART;TZID=America/Chicago:20250220T150000
DTEND;TZID=America/Chicago:20250220T200000
DTSTAMP:20260425T090105
CREATED:20241208T210321Z
LAST-MODIFIED:20241208T210321Z
UID:14660-1740063600-1740081600@mtlacrosse.com
SUMMARY:Thrifty Thursday
DESCRIPTION:Thursday Night – Thrifty Thursday from 3 p.m. – 8 p.m. \nVisit the link below to purchase your tickets! \nhttps://mtlacrosse.com/specials/
URL:https://mtlacrosse.com/event/thrifty-thursday-16/
CATEGORIES:Special Night Discounts
END:VEVENT
BEGIN:VEVENT
DTSTART;TZID=America/Chicago:20250222T150000
DTEND;TZID=America/Chicago:20250222T200000
DTSTAMP:20260425T090105
CREATED:20241208T183221Z
LAST-MODIFIED:20241208T183221Z
UID:14582-1740236400-1740254400@mtlacrosse.com
SUMMARY:WXOW Family Night
DESCRIPTION:Saturday Night – WXOW Family Night from 3 p.m. – 8 p.m. \nVisit the link below to purchase your tickets! \nhttps://mtlacrosse.com/specials/
URL:https://mtlacrosse.com/event/wxow-family-night-19/
CATEGORIES:Special Night Discounts
END:VEVENT
BEGIN:VEVENT
DTSTART;TZID=America/Chicago:20250224T150000
DTEND;TZID=America/Chicago:20250224T200000
DTSTAMP:20260425T090105
CREATED:20241208T204235Z
LAST-MODIFIED:20241208T204235Z
UID:14632-1740409200-1740427200@mtlacrosse.com
SUMMARY:Student Night
DESCRIPTION:Monday Night – Student Night from 3 p.m. – 8 p.m. \nVisit the link below to purchase your tickets! \nhttps://mtlacrosse.com/specials/
URL:https://mtlacrosse.com/event/student-night-18/
CATEGORIES:Special Night Discounts
END:VEVENT
BEGIN:VEVENT
DTSTART;TZID=America/Chicago:20250227T150000
DTEND;TZID=America/Chicago:20250227T200000
DTSTAMP:20260425T090105
CREATED:20241208T210353Z
LAST-MODIFIED:20241208T210353Z
UID:14659-1740668400-1740686400@mtlacrosse.com
SUMMARY:Thrifty Thursday
DESCRIPTION:Thursday Night – Thrifty Thursday from 3 p.m. – 8 p.m. \nVisit the link below to purchase your tickets! \nhttps://mtlacrosse.com/specials/
URL:https://mtlacrosse.com/event/thrifty-thursday-17/
CATEGORIES:Special Night Discounts
END:VEVENT
END:VCALENDAR