BEGIN:VCALENDAR
VERSION:2.0
PRODID:-//Mt. La Crosse Ski and Snowboard - ECPv6.14.2//NONSGML v1.0//EN
CALSCALE:GREGORIAN
METHOD:PUBLISH
X-ORIGINAL-URL:https://mtlacrosse.com
X-WR-CALDESC:Events for Mt. La Crosse Ski and Snowboard
REFRESH-INTERVAL;VALUE=DURATION:PT1H
X-Robots-Tag:noindex
X-PUBLISHED-TTL:PT1H
BEGIN:VTIMEZONE
TZID:America/Chicago
BEGIN:DAYLIGHT
TZOFFSETFROM:-0600
TZOFFSETTO:-0500
TZNAME:CDT
DTSTART:20250309T080000
END:DAYLIGHT
BEGIN:STANDARD
TZOFFSETFROM:-0500
TZOFFSETTO:-0600
TZNAME:CST
DTSTART:20251102T070000
END:STANDARD
BEGIN:DAYLIGHT
TZOFFSETFROM:-0600
TZOFFSETTO:-0500
TZNAME:CDT
DTSTART:20260308T080000
END:DAYLIGHT
BEGIN:STANDARD
TZOFFSETFROM:-0500
TZOFFSETTO:-0600
TZNAME:CST
DTSTART:20261101T070000
END:STANDARD
END:VTIMEZONE
BEGIN:VEVENT
DTSTART;TZID=America/Chicago:20250301T150000
DTEND;TZID=America/Chicago:20250301T200000
DTSTAMP:20260425T142057
CREATED:20241208T183304Z
LAST-MODIFIED:20241208T183304Z
UID:14581-1740841200-1740859200@mtlacrosse.com
SUMMARY:WXOW Family Night
DESCRIPTION:Saturday Night – WXOW Family Night from 3 p.m. – 8 p.m. \nVisit the link below to purchase your tickets! \nhttps://mtlacrosse.com/specials/
URL:https://mtlacrosse.com/event/wxow-family-night-20/
CATEGORIES:Special Night Discounts
END:VEVENT
BEGIN:VEVENT
DTSTART;TZID=America/Chicago:20250303T150000
DTEND;TZID=America/Chicago:20250303T200000
DTSTAMP:20260425T142057
CREATED:20241208T204313Z
LAST-MODIFIED:20241208T204313Z
UID:14631-1741014000-1741032000@mtlacrosse.com
SUMMARY:Student Night
DESCRIPTION:Monday Night – Student Night from 3 p.m. – 8 p.m. \nVisit the link below to purchase your tickets! \nhttps://mtlacrosse.com/specials/
URL:https://mtlacrosse.com/event/student-night-19/
CATEGORIES:Special Night Discounts
END:VEVENT
BEGIN:VEVENT
DTSTART;TZID=America/Chicago:20250305T150000
DTEND;TZID=America/Chicago:20250305T200000
DTSTAMP:20260425T142057
CREATED:20251211T202922Z
LAST-MODIFIED:20251211T202952Z
UID:18363-1741186800-1741204800@mtlacrosse.com
SUMMARY:Thrifty Thursday
DESCRIPTION:Thursday Night – Thrifty Thursday from 3 p.m. – 8 p.m. \nVisit the link below to purchase your tickets! \nhttps://mtlacrosse.com/specials/
URL:https://mtlacrosse.com/event/thrifty-thursday-31/
CATEGORIES:Special Night Discounts
END:VEVENT
BEGIN:VEVENT
DTSTART;TZID=America/Chicago:20250306T150000
DTEND;TZID=America/Chicago:20250306T200000
DTSTAMP:20260425T142057
CREATED:20241208T210426Z
LAST-MODIFIED:20241208T210426Z
UID:14658-1741273200-1741291200@mtlacrosse.com
SUMMARY:Thrifty Thursday
DESCRIPTION:Thursday Night – Thrifty Thursday from 3 p.m. – 8 p.m. \nVisit the link below to purchase your tickets! \nhttps://mtlacrosse.com/specials/
URL:https://mtlacrosse.com/event/thrifty-thursday-18/
CATEGORIES:Special Night Discounts
END:VEVENT
BEGIN:VEVENT
DTSTART;TZID=America/Chicago:20250308T150000
DTEND;TZID=America/Chicago:20250308T200000
DTSTAMP:20260425T142057
CREATED:20241208T183349Z
LAST-MODIFIED:20241208T183432Z
UID:14572-1741446000-1741464000@mtlacrosse.com
SUMMARY:WXOW Family Night
DESCRIPTION:Saturday Night – WXOW Family Night from 3 p.m. – 8 p.m. \nVisit the link below to purchase your tickets! \nhttps://mtlacrosse.com/specials/
URL:https://mtlacrosse.com/event/wxow-family-night-21/
CATEGORIES:Special Night Discounts
END:VEVENT
BEGIN:VEVENT
DTSTART;TZID=America/Chicago:20251206T150000
DTEND;TZID=America/Chicago:20251206T200000
DTSTAMP:20260425T142057
CREATED:20251207T222121Z
LAST-MODIFIED:20251207T222121Z
UID:18217-1765033200-1765051200@mtlacrosse.com
SUMMARY:WXOW Family Night
DESCRIPTION:Saturday Night – WXOW Family Night from 3 p.m. – 8 p.m. \nVisit the link below to purchase your tickets! \nhttps://shop.mtlacrosse.com/Specials
URL:https://mtlacrosse.com/event/wxow-family-night-22/
CATEGORIES:Special Night Discounts
END:VEVENT
BEGIN:VEVENT
DTSTART;TZID=America/Chicago:20251208T150000
DTEND;TZID=America/Chicago:20251208T200000
DTSTAMP:20260425T142057
CREATED:20251207T221924Z
LAST-MODIFIED:20251207T222320Z
UID:18214-1765206000-1765224000@mtlacrosse.com
SUMMARY:Student Night
DESCRIPTION:Monday Night – Student Night from 3 p.m. – 8 p.m. \nVisit the link below to purchase your tickets! \nhttps://shop.mtlacrosse.com/Specials
URL:https://mtlacrosse.com/event/student-night-13/
CATEGORIES:Special Night Discounts
END:VEVENT
BEGIN:VEVENT
DTSTART;TZID=America/Chicago:20251211T150000
DTEND;TZID=America/Chicago:20251211T200000
DTSTAMP:20260425T142057
CREATED:20251207T222205Z
LAST-MODIFIED:20251207T222205Z
UID:18216-1765465200-1765483200@mtlacrosse.com
SUMMARY:Thrifty Thursday
DESCRIPTION:Thursday Night – Thrifty Thursday from 3 p.m. – 8 p.m. \nVisit the link below to purchase your tickets! \nhttps://mtlacrosse.com/specials/
URL:https://mtlacrosse.com/event/thrifty-thursday-20/
CATEGORIES:Special Night Discounts
END:VEVENT
BEGIN:VEVENT
DTSTART;TZID=America/Chicago:20251213T150000
DTEND;TZID=America/Chicago:20251213T200000
DTSTAMP:20260425T142057
CREATED:20251207T222416Z
LAST-MODIFIED:20251207T222416Z
UID:18220-1765638000-1765656000@mtlacrosse.com
SUMMARY:WXOW Family Night
DESCRIPTION:Saturday Night – WXOW Family Night from 3 p.m. – 8 p.m. \nVisit the link below to purchase your tickets! \nhttps://shop.mtlacrosse.com/Specials
URL:https://mtlacrosse.com/event/wxow-family-night-23/
CATEGORIES:Special Night Discounts
END:VEVENT
BEGIN:VEVENT
DTSTART;TZID=America/Chicago:20251215T150000
DTEND;TZID=America/Chicago:20251215T200000
DTSTAMP:20260425T142057
CREATED:20251211T221031Z
LAST-MODIFIED:20251211T221031Z
UID:18394-1765810800-1765828800@mtlacrosse.com
SUMMARY:Student Night
DESCRIPTION:Monday Night – Student Night from 3 p.m. – 8 p.m. \nVisit the link below to purchase your tickets! \nhttps://shop.mtlacrosse.com/Specials
URL:https://mtlacrosse.com/event/student-night-17/
CATEGORIES:Special Night Discounts
END:VEVENT
BEGIN:VEVENT
DTSTART;TZID=America/Chicago:20251218T150000
DTEND;TZID=America/Chicago:20251218T200000
DTSTAMP:20260425T142057
CREATED:20251211T202410Z
LAST-MODIFIED:20251211T202410Z
UID:18373-1766070000-1766088000@mtlacrosse.com
SUMMARY:Thrifty Thursday
DESCRIPTION:Thursday Night – Thrifty Thursday from 3 p.m. – 8 p.m. \nVisit the link below to purchase your tickets! \nhttps://mtlacrosse.com/specials/
URL:https://mtlacrosse.com/event/thrifty-thursday-21/
CATEGORIES:Special Night Discounts
END:VEVENT
BEGIN:VEVENT
DTSTART;TZID=America/Chicago:20251220T150000
DTEND;TZID=America/Chicago:20251220T200000
DTSTAMP:20260425T142057
CREATED:20251211T222642Z
LAST-MODIFIED:20251211T222642Z
UID:18419-1766242800-1766260800@mtlacrosse.com
SUMMARY:WXOW Family Night
DESCRIPTION:Saturday Night – WXOW Family Night from 3 p.m. – 8 p.m. \nVisit the link below to purchase your tickets! \nhttps://shop.mtlacrosse.com/Specials
URL:https://mtlacrosse.com/event/wxow-family-night-24/
CATEGORIES:Special Night Discounts
END:VEVENT
BEGIN:VEVENT
DTSTART;TZID=America/Chicago:20251222T150000
DTEND;TZID=America/Chicago:20251222T200000
DTSTAMP:20260425T142057
CREATED:20251211T221051Z
LAST-MODIFIED:20251211T221051Z
UID:18393-1766415600-1766433600@mtlacrosse.com
SUMMARY:Student Night
DESCRIPTION:Monday Night – Student Night from 3 p.m. – 8 p.m. \nVisit the link below to purchase your tickets! \nhttps://shop.mtlacrosse.com/Specials
URL:https://mtlacrosse.com/event/student-night-20/
CATEGORIES:Special Night Discounts
END:VEVENT
BEGIN:VEVENT
DTSTART;TZID=America/Chicago:20251227T150000
DTEND;TZID=America/Chicago:20251227T200000
DTSTAMP:20260425T142057
CREATED:20251211T222659Z
LAST-MODIFIED:20251211T222659Z
UID:18418-1766847600-1766865600@mtlacrosse.com
SUMMARY:WXOW Family Night
DESCRIPTION:Saturday Night – WXOW Family Night from 3 p.m. – 8 p.m. \nVisit the link below to purchase your tickets! \nhttps://shop.mtlacrosse.com/Specials
URL:https://mtlacrosse.com/event/wxow-family-night-25/
CATEGORIES:Special Night Discounts
END:VEVENT
BEGIN:VEVENT
DTSTART;TZID=America/Chicago:20251229T150000
DTEND;TZID=America/Chicago:20251229T200000
DTSTAMP:20260425T142057
CREATED:20251211T221105Z
LAST-MODIFIED:20251211T221105Z
UID:18392-1767020400-1767038400@mtlacrosse.com
SUMMARY:Student Night
DESCRIPTION:Monday Night – Student Night from 3 p.m. – 8 p.m. \nVisit the link below to purchase your tickets! \nhttps://shop.mtlacrosse.com/Specials
URL:https://mtlacrosse.com/event/student-night-21/
CATEGORIES:Special Night Discounts
END:VEVENT
BEGIN:VEVENT
DTSTART;TZID=America/Chicago:20260101T150000
DTEND;TZID=America/Chicago:20260101T200000
DTSTAMP:20260425T142057
CREATED:20251211T202437Z
LAST-MODIFIED:20260108T181138Z
UID:18372-1767279600-1767297600@mtlacrosse.com
SUMMARY:Thrifty Thursday
DESCRIPTION:Thursday Night – Thrifty Thursday from 3 p.m. – 8 p.m. \nVisit the link below to purchase your tickets! \nhttps://mtlacrosse.com/specials/
URL:https://mtlacrosse.com/event/thrifty-thursday-1126/
CATEGORIES:Special Night Discounts
END:VEVENT
BEGIN:VEVENT
DTSTART;TZID=America/Chicago:20260103T150000
DTEND;TZID=America/Chicago:20260103T200000
DTSTAMP:20260425T142057
CREATED:20251211T222722Z
LAST-MODIFIED:20260108T181449Z
UID:18417-1767452400-1767470400@mtlacrosse.com
SUMMARY:WXOW Family Night
DESCRIPTION:Saturday Night – WXOW Family Night from 3 p.m. – 8 p.m. \nVisit the link below to purchase your tickets! \nhttps://shop.mtlacrosse.com/Specials
URL:https://mtlacrosse.com/event/wxow-family-night-1326/
CATEGORIES:Special Night Discounts
END:VEVENT
BEGIN:VEVENT
DTSTART;TZID=America/Chicago:20260105T150000
DTEND;TZID=America/Chicago:20260105T200000
DTSTAMP:20260425T142057
CREATED:20251211T221129Z
LAST-MODIFIED:20260108T181253Z
UID:18391-1767625200-1767643200@mtlacrosse.com
SUMMARY:Student Night
DESCRIPTION:Monday Night – Student Night from 3 p.m. – 8 p.m. \nVisit the link below to purchase your tickets! \nhttps://shop.mtlacrosse.com/Specials
URL:https://mtlacrosse.com/event/student-night-1526/
CATEGORIES:Special Night Discounts
END:VEVENT
BEGIN:VEVENT
DTSTART;TZID=America/Chicago:20260110T150000
DTEND;TZID=America/Chicago:20260110T200000
DTSTAMP:20260425T142057
CREATED:20251211T222803Z
LAST-MODIFIED:20260108T181456Z
UID:18416-1768057200-1768075200@mtlacrosse.com
SUMMARY:WXOW Family Night
DESCRIPTION:Saturday Night – WXOW Family Night from 3 p.m. – 8 p.m. \nVisit the link below to purchase your tickets! \nhttps://shop.mtlacrosse.com/Specials
URL:https://mtlacrosse.com/event/wxow-family-night-11026/
CATEGORIES:Special Night Discounts
END:VEVENT
BEGIN:VEVENT
DTSTART;TZID=America/Chicago:20260112T150000
DTEND;TZID=America/Chicago:20260112T200000
DTSTAMP:20260425T142057
CREATED:20251211T221147Z
LAST-MODIFIED:20260108T181302Z
UID:18390-1768230000-1768248000@mtlacrosse.com
SUMMARY:Student Night
DESCRIPTION:Monday Night – Student Night from 3 p.m. – 8 p.m. \nVisit the link below to purchase your tickets! \nhttps://shop.mtlacrosse.com/Specials
URL:https://mtlacrosse.com/event/student-night-11226/
CATEGORIES:Special Night Discounts
END:VEVENT
BEGIN:VEVENT
DTSTART;TZID=America/Chicago:20260115T150000
DTEND;TZID=America/Chicago:20260115T200000
DTSTAMP:20260425T142057
CREATED:20251211T202554Z
LAST-MODIFIED:20260108T181146Z
UID:18370-1768489200-1768507200@mtlacrosse.com
SUMMARY:Thrifty Thursday
DESCRIPTION:Thursday Night – Thrifty Thursday from 3 p.m. – 8 p.m. \nVisit the link below to purchase your tickets! \nhttps://mtlacrosse.com/specials/
URL:https://mtlacrosse.com/event/thrifty-thursday-11526/
CATEGORIES:Special Night Discounts
END:VEVENT
BEGIN:VEVENT
DTSTART;TZID=America/Chicago:20260117T150000
DTEND;TZID=America/Chicago:20260117T200000
DTSTAMP:20260425T142057
CREATED:20251211T222828Z
LAST-MODIFIED:20260108T181502Z
UID:18415-1768662000-1768680000@mtlacrosse.com
SUMMARY:WXOW Family Night
DESCRIPTION:Saturday Night – WXOW Family Night from 3 p.m. – 8 p.m. \nVisit the link below to purchase your tickets! \nhttps://shop.mtlacrosse.com/Specials
URL:https://mtlacrosse.com/event/wxow-family-night-11726/
CATEGORIES:Special Night Discounts
END:VEVENT
BEGIN:VEVENT
DTSTART;TZID=America/Chicago:20260119T150000
DTEND;TZID=America/Chicago:20260119T200000
DTSTAMP:20260425T142057
CREATED:20251211T221300Z
LAST-MODIFIED:20260108T181309Z
UID:18389-1768834800-1768852800@mtlacrosse.com
SUMMARY:Student Night
DESCRIPTION:Monday Night – Student Night from 3 p.m. – 8 p.m. \nVisit the link below to purchase your tickets! \nhttps://shop.mtlacrosse.com/Specials
URL:https://mtlacrosse.com/event/student-night-11926/
CATEGORIES:Special Night Discounts
END:VEVENT
BEGIN:VEVENT
DTSTART;TZID=America/Chicago:20260122T150000
DTEND;TZID=America/Chicago:20260122T200000
DTSTAMP:20260425T142057
CREATED:20251211T202611Z
LAST-MODIFIED:20260108T181152Z
UID:18369-1769094000-1769112000@mtlacrosse.com
SUMMARY:Thrifty Thursday
DESCRIPTION:Thursday Night – Thrifty Thursday from 3 p.m. – 8 p.m. \nVisit the link below to purchase your tickets! \nhttps://mtlacrosse.com/specials/
URL:https://mtlacrosse.com/event/thrifty-thursday-12226/
CATEGORIES:Special Night Discounts
END:VEVENT
BEGIN:VEVENT
DTSTART;TZID=America/Chicago:20260126T150000
DTEND;TZID=America/Chicago:20260126T200000
DTSTAMP:20260425T142057
CREATED:20251211T221317Z
LAST-MODIFIED:20260108T181329Z
UID:18388-1769439600-1769457600@mtlacrosse.com
SUMMARY:Student Night
DESCRIPTION:Monday Night – Student Night from 3 p.m. – 8 p.m. \nVisit the link below to purchase your tickets! \nhttps://shop.mtlacrosse.com/Specials
URL:https://mtlacrosse.com/event/student-night-12626/
CATEGORIES:Special Night Discounts
END:VEVENT
BEGIN:VEVENT
DTSTART;TZID=America/Chicago:20260129T150000
DTEND;TZID=America/Chicago:20260129T200000
DTSTAMP:20260425T142057
CREATED:20251211T202632Z
LAST-MODIFIED:20260108T181158Z
UID:18368-1769698800-1769716800@mtlacrosse.com
SUMMARY:Thrifty Thursday
DESCRIPTION:Thursday Night – Thrifty Thursday from 3 p.m. – 8 p.m. \nVisit the link below to purchase your tickets! \nhttps://mtlacrosse.com/specials/
URL:https://mtlacrosse.com/event/thrifty-thursday-12926/
CATEGORIES:Special Night Discounts
END:VEVENT
BEGIN:VEVENT
DTSTART;TZID=America/Chicago:20260131T150000
DTEND;TZID=America/Chicago:20260131T200000
DTSTAMP:20260425T142057
CREATED:20251211T222859Z
LAST-MODIFIED:20260108T181515Z
UID:18413-1769871600-1769889600@mtlacrosse.com
SUMMARY:WXOW Family Night
DESCRIPTION:Saturday Night – WXOW Family Night from 3 p.m. – 8 p.m. \nVisit the link below to purchase your tickets! \nhttps://shop.mtlacrosse.com/Specials
URL:https://mtlacrosse.com/event/wxow-family-night-13126/
CATEGORIES:Special Night Discounts
END:VEVENT
BEGIN:VEVENT
DTSTART;TZID=America/Chicago:20260202T150000
DTEND;TZID=America/Chicago:20260202T200000
DTSTAMP:20260425T142057
CREATED:20251211T221345Z
LAST-MODIFIED:20260108T181406Z
UID:18387-1770044400-1770062400@mtlacrosse.com
SUMMARY:Student Night
DESCRIPTION:Monday Night – Student Night from 3 p.m. – 8 p.m. \nVisit the link below to purchase your tickets! \nhttps://shop.mtlacrosse.com/Specials
URL:https://mtlacrosse.com/event/student-night-2226/
CATEGORIES:Special Night Discounts
END:VEVENT
BEGIN:VEVENT
DTSTART;TZID=America/Chicago:20260205T150000
DTEND;TZID=America/Chicago:20260205T200000
DTSTAMP:20260425T142057
CREATED:20251211T202739Z
LAST-MODIFIED:20260108T181204Z
UID:18367-1770303600-1770321600@mtlacrosse.com
SUMMARY:Thrifty Thursday
DESCRIPTION:Thursday Night – Thrifty Thursday from 3 p.m. – 8 p.m. \nVisit the link below to purchase your tickets! \nhttps://mtlacrosse.com/specials/
URL:https://mtlacrosse.com/event/thrifty-thursday-2526/
CATEGORIES:Special Night Discounts
END:VEVENT
BEGIN:VEVENT
DTSTART;TZID=America/Chicago:20260207T150000
DTEND;TZID=America/Chicago:20260207T200000
DTSTAMP:20260425T142057
CREATED:20251211T223001Z
LAST-MODIFIED:20260108T181521Z
UID:18412-1770476400-1770494400@mtlacrosse.com
SUMMARY:WXOW Family Night
DESCRIPTION:Saturday Night – WXOW Family Night from 3 p.m. – 8 p.m. \nVisit the link below to purchase your tickets! \nhttps://shop.mtlacrosse.com/Specials
URL:https://mtlacrosse.com/event/wxow-family-night-2726/
CATEGORIES:Special Night Discounts
END:VEVENT
END:VCALENDAR